BEGIN:VCALENDAR
VERSION:2.0
PRODID:-//www.dsala.org//NONSGML kigkonsult.se iCalcreator 2.30.10//
CALSCALE:GREGORIAN
METHOD:PUBLISH
UID:0999cc23-143d-430f-841a-556de19d3dd4
X-WR-CALDESC:Born to Act Players - Junior Class (New Location)\n\nStudents 
 will sing\, dance\, and act! They will develop better speech\, communicati
 on skills\, and self confidence.\n\n\n\nFor more information send an email
  to Mary Rings at BTAP@earthlink.net or call 818-776-9670. Cost is $15 per
  session.  For ages 5-17.	\n
X-WR-RELCALID:7c671d83dc4ee42ab5590d4a8ff0cf28
X-WR-TIMEZONE:America/Los_Angeles
BEGIN:VTIMEZONE
TZID:America/Los_Angeles
BEGIN:STANDARD
TZNAME:PST
DTSTART:20261101T020000
TZOFFSETFROM:-0700
TZOFFSETTO:-0800
RDATE:20271107T020000
END:STANDARD
BEGIN:DAYLIGHT
TZNAME:PDT
DTSTART:20270314T020000
TZOFFSETFROM:-0800
TZOFFSETTO:-0700
RDATE:20280312T020000
END:DAYLIGHT
END:VTIMEZONE
BEGIN:VEVENT
UID:e6e76730-13ce-43e5-871c-dc2b2cf7ddf4
DTSTAMP:20260420T090253Z
DESCRIPTION:Born to Act Players - Junior Class (New Location)\n\nStudents w
 ill sing\, dance\, and act! They will develop better speech\, communicatio
 n skills\, and self confidence.\n\n\n\nFor more information send an email 
 to Mary Rings at BTAP@earthlink.net or call 818-776-9670. Cost is $15 per 
 session.  For ages 5-17.	\n
DTSTART;TZID=America/Los_Angeles:20270331T160000
DTEND;TZID=America/Los_Angeles:20270331T173000
LOCATION:Zoom [Contact Mary Rings for Link]
SUMMARY:Acting Classes BTAP Jr.
END:VEVENT
END:VCALENDAR
