BEGIN:VCALENDAR
VERSION:2.0
PRODID:-//www.dsala.org//NONSGML kigkonsult.se iCalcreator 2.30.10//
CALSCALE:GREGORIAN
METHOD:PUBLISH
UID:6e5de7a0-4656-4561-adf4-06fca477503d
X-WR-CALDESC:Born to Act Players - Junior Class (New Location)\n\nStudents 
 will sing\, dance\, and act! They will develop better speech\, communicati
 on skills\, and self confidence.\n\n\n\nFor more information send an email
  to Mary Rings at BTAP@earthlink.net or call 818-776-9670. Cost is $15 per
  session.  For ages 5-17.	\n
X-WR-RELCALID:2b2f0f38305616c122d9a6497a5c0d8a
X-WR-TIMEZONE:America/Los_Angeles
BEGIN:VTIMEZONE
TZID:America/Los_Angeles
BEGIN:STANDARD
TZNAME:PST
DTSTART:20261101T020000
TZOFFSETFROM:-0700
TZOFFSETTO:-0800
RDATE:20271107T020000
END:STANDARD
BEGIN:DAYLIGHT
TZNAME:PDT
DTSTART:20260308T020000
TZOFFSETFROM:-0800
TZOFFSETTO:-0700
RDATE:20270314T020000
RDATE:20280312T020000
END:DAYLIGHT
END:VTIMEZONE
BEGIN:VEVENT
UID:5a7c84e4-aa8b-4381-afe1-be9d44f2e5a8
DTSTAMP:20260420T070924Z
DESCRIPTION:Born to Act Players - Junior Class (New Location)\n\nStudents w
 ill sing\, dance\, and act! They will develop better speech\, communicatio
 n skills\, and self confidence.\n\n\n\nFor more information send an email 
 to Mary Rings at BTAP@earthlink.net or call 818-776-9670. Cost is $15 per 
 session.  For ages 5-17.	\n
DTSTART;TZID=America/Los_Angeles:20270210T160000
DTEND;TZID=America/Los_Angeles:20270210T173000
LOCATION:Zoom [Contact Mary Rings for Link]
SUMMARY:Acting Classes BTAP Jr.
END:VEVENT
END:VCALENDAR
