BEGIN:VCALENDAR
VERSION:2.0
PRODID:-//www.dsala.org//NONSGML kigkonsult.se iCalcreator 2.30.10//
CALSCALE:GREGORIAN
METHOD:PUBLISH
UID:3bb54188-7af4-4252-90dc-26fd6b03f623
X-WR-CALDESC:Born to Act Players - Junior Class (New Location)\n\nStudents 
 will sing\, dance\, and act! They will develop better speech\, communicati
 on skills\, and self confidence.\n\n\n\nFor more information send an email
  to Mary Rings at BTAP@earthlink.net or call 818-776-9670. Cost is $15 per
  session.  For ages 5-17.	\n
X-WR-RELCALID:b81e36de3bfe2f6d6c8e9ad7decfa0aa
X-WR-TIMEZONE:America/Los_Angeles
BEGIN:VTIMEZONE
TZID:America/Los_Angeles
BEGIN:STANDARD
TZNAME:PST
DTSTART:20261101T020000
TZOFFSETFROM:-0700
TZOFFSETTO:-0800
RDATE:20271107T020000
END:STANDARD
BEGIN:DAYLIGHT
TZNAME:PDT
DTSTART:20260308T020000
TZOFFSETFROM:-0800
TZOFFSETTO:-0700
RDATE:20270314T020000
RDATE:20280312T020000
END:DAYLIGHT
END:VTIMEZONE
BEGIN:VEVENT
UID:d75bc23e-eded-464f-8811-723ee723448c
DTSTAMP:20260420T031653Z
DESCRIPTION:Born to Act Players - Junior Class (New Location)\n\nStudents w
 ill sing\, dance\, and act! They will develop better speech\, communicatio
 n skills\, and self confidence.\n\n\n\nFor more information send an email 
 to Mary Rings at BTAP@earthlink.net or call 818-776-9670. Cost is $15 per 
 session.  For ages 5-17.	\n
DTSTART;TZID=America/Los_Angeles:20261230T160000
DTEND;TZID=America/Los_Angeles:20261230T173000
LOCATION:Zoom [Contact Mary Rings for Link]
SUMMARY:Acting Classes BTAP Jr.
END:VEVENT
END:VCALENDAR
