BEGIN:VCALENDAR
VERSION:2.0
PRODID:-//www.dsala.org//NONSGML kigkonsult.se iCalcreator 2.30.10//
CALSCALE:GREGORIAN
METHOD:PUBLISH
UID:f4f4bc2b-ca41-4bea-aa76-e31e281d1b7b
X-WR-CALDESC:Born to Act Players - Junior Class\n\nStudents will sing\, dan
 ce\, and act! \n\nThey will develop better speech\, communication skills\,
  and self confidence !\n\n\nCost is $15 per session. (Ages 5-17)	\n\n
X-WR-RELCALID:1166af5e1818e66b72751b55c7f90549
X-WR-TIMEZONE:America/Los_Angeles
BEGIN:VTIMEZONE
TZID:America/Los_Angeles
BEGIN:STANDARD
TZNAME:PST
DTSTART:20261101T020000
TZOFFSETFROM:-0700
TZOFFSETTO:-0800
RDATE:20271107T020000
END:STANDARD
BEGIN:DAYLIGHT
TZNAME:PDT
DTSTART:20260308T020000
TZOFFSETFROM:-0800
TZOFFSETTO:-0700
RDATE:20270314T020000
RDATE:20280312T020000
END:DAYLIGHT
END:VTIMEZONE
BEGIN:VEVENT
UID:7a2f629e-0491-46d6-aa4f-1b04f0ed5abf
DTSTAMP:20260420T031710Z
DESCRIPTION:Born to Act Players - Junior Class\n\nStudents will sing\, danc
 e\, and act! \n\nThey will develop better speech\, communication skills\, 
 and self confidence !\n\n\nCost is $15 per session. (Ages 5-17)	\n\n
DTSTART;TZID=America/Los_Angeles:20261210T160000
DTEND;TZID=America/Los_Angeles:20261210T173000
LOCATION:First Christian Church of North Hollywood  4390 Colfax Ave\, Studi
 o City\, CA 91604
SUMMARY:Acting Classes BTAP Jr.
END:VEVENT
END:VCALENDAR
