BEGIN:VCALENDAR
VERSION:2.0
PRODID:-//www.dsala.org//NONSGML kigkonsult.se iCalcreator 2.30.10//
CALSCALE:GREGORIAN
METHOD:PUBLISH
UID:84b9dd64-6e26-4b65-b5bb-44a599fbf4ec
X-WR-CALDESC:Caregiver Support Group\nFor family caregivers of individuals 
 with Down syndrome and Alzheimer's disease\n\nMeetings are every first and
  third Wednesday of each month\n\n
X-WR-RELCALID:876d6ed532326d865226502eb6b0f0ba
X-WR-TIMEZONE:America/Los_Angeles
BEGIN:VTIMEZONE
TZID:America/Los_Angeles
BEGIN:STANDARD
TZNAME:PST
DTSTART:20261101T020000
TZOFFSETFROM:-0700
TZOFFSETTO:-0800
RDATE:20271107T020000
END:STANDARD
BEGIN:DAYLIGHT
TZNAME:PDT
DTSTART:20260308T020000
TZOFFSETFROM:-0800
TZOFFSETTO:-0700
RDATE:20270314T020000
RDATE:20280312T020000
END:DAYLIGHT
END:VTIMEZONE
BEGIN:VEVENT
UID:61ef9559-0c33-4aed-b11f-13300cef7dd1
DTSTAMP:20260420T031225Z
DESCRIPTION:Caregiver Support Group\nFor family caregivers of individuals w
 ith Down syndrome and Alzheimer's disease\n\nMeetings are every first and 
 third Wednesday of each month\n\n
DTSTART;TZID=America/Los_Angeles:20261202T160000
DTEND;TZID=America/Los_Angeles:20261202T170000
LOCATION:Via Zoom
SUMMARY:Caregiver Support Group
END:VEVENT
END:VCALENDAR
