BEGIN:VCALENDAR
VERSION:2.0
PRODID:-//www.dsala.org//NONSGML kigkonsult.se iCalcreator 2.30.10//
CALSCALE:GREGORIAN
METHOD:PUBLISH
UID:c3359722-7711-4904-a97e-79349e9342bf
X-WR-CALDESC:<b>SAVE THE DATE!</b>\n\nThe Down Syndrome Association of Los 
 Angeles is excited to announce its <b>32nd Annual T21 Walk and Festival</b
 > on <b>Sunday\, November 1st\, 2026\, at 11:00 AM</b> at <b>Santa Anita P
 ark Paddock Gardens in Arcadia\, Gate 3.</b> Join us in celebrating our lo
 ved ones with Down syndrome and contributing to vital programs that benefi
 t our local Down syndrome community.\n\nThis event unites the community ea
 ch year to advocate for the value\, acceptance\, and inclusion of people w
 ith Down syndrome. We expect approximately 700 participants to attend this
  celebration of unity and awareness. DSALA envisions a world in which all 
 people with Down syndrome have the opportunity to become valued members of
  welcoming communities.
X-WR-RELCALID:0380255f71d10b5be40a5373ff98d676
X-WR-TIMEZONE:America/Los_Angeles
BEGIN:VTIMEZONE
TZID:America/Los_Angeles
BEGIN:STANDARD
TZNAME:PST
DTSTART:20251102T020000
TZOFFSETFROM:-0700
TZOFFSETTO:-0800
RDATE:20261101T020000
RDATE:20271107T020000
END:STANDARD
BEGIN:DAYLIGHT
TZNAME:PDT
DTSTART:20260308T020000
TZOFFSETFROM:-0800
TZOFFSETTO:-0700
RDATE:20270314T020000
RDATE:20280312T020000
END:DAYLIGHT
END:VTIMEZONE
BEGIN:VEVENT
UID:cb071efd-8554-4177-8ed5-e856a247299d
DTSTAMP:20260420T012338Z
DESCRIPTION:<b>SAVE THE DATE!</b>\n\nThe Down Syndrome Association of Los A
 ngeles is excited to announce its <b>32nd Annual T21 Walk and Festival</b>
  on <b>Sunday\, November 1st\, 2026\, at 11:00 AM</b> at <b>Santa Anita Pa
 rk Paddock Gardens in Arcadia\, Gate 3.</b> Join us in celebrating our lov
 ed ones with Down syndrome and contributing to vital programs that benefit
  our local Down syndrome community.\n\nThis event unites the community eac
 h year to advocate for the value\, acceptance\, and inclusion of people wi
 th Down syndrome. We expect approximately 700 participants to attend this 
 celebration of unity and awareness. DSALA envisions a world in which all p
 eople with Down syndrome have the opportunity to become valued members of 
 welcoming communities.
DTSTART;TZID=America/Los_Angeles:20261101T110000
DTEND;TZID=America/Los_Angeles:20261101T143000
LOCATION:285 W Huntington Drive\, Arcadia\, CA 91007 US
SUMMARY:32nd Annual T-21 Walk and Festival
END:VEVENT
END:VCALENDAR
