BEGIN:VCALENDAR
VERSION:2.0
PRODID:-//www.dsala.org//NONSGML kigkonsult.se iCalcreator 2.30.10//
CALSCALE:GREGORIAN
METHOD:PUBLISH
UID:ffe71aac-3858-45a4-9360-597ca67d225f
X-WR-CALDESC:Born to Act Players - Junior Class\n\nStudents will sing\, dan
 ce\, and act! \n\nThey will develop better speech\, communication skills\,
  and self confidence !\n\n\nCost is $15 per session. (Ages 5-17)	\n\n
X-WR-RELCALID:c9e749c64d6ce6782c44a0056fd1d8ed
X-WR-TIMEZONE:America/Los_Angeles
BEGIN:VTIMEZONE
TZID:America/Los_Angeles
BEGIN:STANDARD
TZNAME:PST
DTSTART:20251102T020000
TZOFFSETFROM:-0700
TZOFFSETTO:-0800
RDATE:20261101T020000
RDATE:20271107T020000
END:STANDARD
BEGIN:DAYLIGHT
TZNAME:PDT
DTSTART:20260308T020000
TZOFFSETFROM:-0800
TZOFFSETTO:-0700
RDATE:20270314T020000
RDATE:20280312T020000
END:DAYLIGHT
END:VTIMEZONE
BEGIN:VEVENT
UID:d2747de5-9ada-498b-94a2-c9c32cb9e923
DTSTAMP:20260419T234721Z
DESCRIPTION:Born to Act Players - Junior Class\n\nStudents will sing\, danc
 e\, and act! \n\nThey will develop better speech\, communication skills\, 
 and self confidence !\n\n\nCost is $15 per session. (Ages 5-17)	\n\n
DTSTART;TZID=America/Los_Angeles:20261022T160000
DTEND;TZID=America/Los_Angeles:20261022T173000
LOCATION:First Christian Church of North Hollywood  4390 Colfax Ave\, Studi
 o City\, CA 91604
SUMMARY:Acting Classes BTAP Jr.
END:VEVENT
END:VCALENDAR
