BEGIN:VCALENDAR
VERSION:2.0
PRODID:-//www.dsala.org//NONSGML kigkonsult.se iCalcreator 2.30.10//
CALSCALE:GREGORIAN
METHOD:PUBLISH
UID:e4c2ddd7-d976-4826-9ec7-4c89d893d377
X-WR-CALDESC:<b></b><center>¿Qué es Cultivar y Crecer?</center>\nEs un grup
 o de apoyo para padres y familiares de personas con necesidades especiales
 \, enfocado en apoyar a las familias de habla hispana. Con el objetivo de 
 brindar apoyo emocional\, conferencias y talleres educacionales que contri
 buyan al bienestar y al desarrollo de personas con necesidades especiales.
 \n\nFavor de ver el calendario para más información.\n\n******************
 *****************************************************\nParent support grou
 p for Spanish-speaking families of individuals with special needs.  \n\nPl
 ease check the calendar of events for more information.
X-WR-RELCALID:23ca2b2ae03ac619466ed1cc51783c04
X-WR-TIMEZONE:America/Los_Angeles
BEGIN:VTIMEZONE
TZID:America/Los_Angeles
BEGIN:STANDARD
TZNAME:PST
DTSTART:20251102T020000
TZOFFSETFROM:-0700
TZOFFSETTO:-0800
RDATE:20261101T020000
RDATE:20271107T020000
END:STANDARD
BEGIN:DAYLIGHT
TZNAME:PDT
DTSTART:20260308T020000
TZOFFSETFROM:-0800
TZOFFSETTO:-0700
RDATE:20270314T020000
RDATE:20280312T020000
END:DAYLIGHT
END:VTIMEZONE
BEGIN:VEVENT
UID:7b681954-51c7-4aba-a86c-5a53fd272836
DTSTAMP:20260419T234540Z
DESCRIPTION:<b></b><center>¿Qué es Cultivar y Crecer?</center>\nEs un grupo
  de apoyo para padres y familiares de personas con necesidades especiales\
 , enfocado en apoyar a las familias de habla hispana. Con el objetivo de b
 rindar apoyo emocional\, conferencias y talleres educacionales que contrib
 uyan al bienestar y al desarrollo de personas con necesidades especiales.
 \n\nFavor de ver el calendario para más información.\n\n******************
 *****************************************************\nParent support grou
 p for Spanish-speaking families of individuals with special needs.  \n\nPl
 ease check the calendar of events for more information.
DTSTART;TZID=America/Los_Angeles:20261016T183000
DTEND;TZID=America/Los_Angeles:20261016T200000
LOCATION:Zoom
SUMMARY:Cultivar & Crecer Parent Support Group [Zoom]
END:VEVENT
END:VCALENDAR
