BEGIN:VCALENDAR
VERSION:2.0
PRODID:-//www.dsala.org//NONSGML kigkonsult.se iCalcreator 2.30.10//
CALSCALE:GREGORIAN
METHOD:PUBLISH
UID:8b75bad7-bb3a-454f-a93f-0105644934a0
X-WR-CALDESC:<b>Caminando Juntos es un grupo de apoyo virtual</b> para fami
 liares que cuidan a adultos con discapacidades del desarrollo\, incluido e
 l <b>síndrome de Down\, y Alzheimer u otras formas de demencia.</b>\n\nEst
 e espacio ofrece la oportunidad de compartir experiencias\, aprender estra
 tegias útiles y conectarse con otros cuidadores que entienden este camino.
 \n\nLas reuniones se llevan a cabo el segundo y cuarto miércoles de cada m
 es\, de 5:15 a 6:15 p. m.\, por Zoom.\n\n📍Ubicación: Virtual (Zoom)\n📅Fech
 a: Segundo y cuarto miércoles de cada mes\n⏰ Hora: 5:15–6:15 p. m.\n📞Conta
 cto: Juan Saavedra – (213) 649-8227\n📧Correo electrónico: jsaavedra@alzla.
 org
X-WR-RELCALID:f58ebd962b89c49133fa7858d23cb78b
X-WR-TIMEZONE:America/Los_Angeles
BEGIN:VTIMEZONE
TZID:America/Los_Angeles
BEGIN:STANDARD
TZNAME:PST
DTSTART:20251102T020000
TZOFFSETFROM:-0700
TZOFFSETTO:-0800
RDATE:20261101T020000
RDATE:20271107T020000
END:STANDARD
BEGIN:DAYLIGHT
TZNAME:PDT
DTSTART:20260308T020000
TZOFFSETFROM:-0800
TZOFFSETTO:-0700
RDATE:20270314T020000
RDATE:20280312T020000
END:DAYLIGHT
END:VTIMEZONE
BEGIN:VEVENT
UID:0383e98d-1e0b-40f2-8c6a-eb20422679fe
DTSTAMP:20260419T235154Z
DESCRIPTION:<b>Caminando Juntos es un grupo de apoyo virtual</b> para famil
 iares que cuidan a adultos con discapacidades del desarrollo\, incluido el
  <b>síndrome de Down\, y Alzheimer u otras formas de demencia.</b>\n\nEste
  espacio ofrece la oportunidad de compartir experiencias\, aprender estrat
 egias útiles y conectarse con otros cuidadores que entienden este camino.
 \n\nLas reuniones se llevan a cabo el segundo y cuarto miércoles de cada m
 es\, de 5:15 a 6:15 p. m.\, por Zoom.\n\n📍Ubicación: Virtual (Zoom)\n📅Fech
 a: Segundo y cuarto miércoles de cada mes\n⏰ Hora: 5:15–6:15 p. m.\n📞Conta
 cto: Juan Saavedra – (213) 649-8227\n📧Correo electrónico: jsaavedra@alzla.
 org
DTSTART;TZID=America/Los_Angeles:20261014T171500
DTEND;TZID=America/Los_Angeles:20261014T181500
LOCATION:Por Zoom
SUMMARY:Grupo de Apoyo para Cuidadores
END:VEVENT
END:VCALENDAR
