BEGIN:VCALENDAR
VERSION:2.0
PRODID:-//www.dsala.org//NONSGML kigkonsult.se iCalcreator 2.30.10//
CALSCALE:GREGORIAN
METHOD:PUBLISH
UID:7f43c1fa-dbd0-426a-a959-3604657ba185
X-WR-CALDESC:<b>All-Inclusive Zumba</b>\nHigh energy\, calorie-burning danc
 e party modified for individuals with special needs.\n\nJoin the fun!
X-WR-RELCALID:a652436a59880fb7412997b91bad4140
X-WR-TIMEZONE:America/Los_Angeles
BEGIN:VTIMEZONE
TZID:America/Los_Angeles
BEGIN:STANDARD
TZNAME:PST
DTSTART:20251102T020000
TZOFFSETFROM:-0700
TZOFFSETTO:-0800
RDATE:20261101T020000
RDATE:20271107T020000
END:STANDARD
BEGIN:DAYLIGHT
TZNAME:PDT
DTSTART:20260308T020000
TZOFFSETFROM:-0800
TZOFFSETTO:-0700
RDATE:20270314T020000
RDATE:20280312T020000
END:DAYLIGHT
END:VTIMEZONE
BEGIN:VEVENT
UID:bcae4e0f-c2bf-4986-83e9-ad132b075e23
DTSTAMP:20260419T234830Z
DESCRIPTION:<b>All-Inclusive Zumba</b>\nHigh energy\, calorie-burning dance
  party modified for individuals with special needs.\n\nJoin the fun!
DTSTART;TZID=America/Los_Angeles:20261007T180000
DTEND;TZID=America/Los_Angeles:20261007T190000
LOCATION:San Fernando Park 208 Park Avenue  San Fernando\, CA 91340
SUMMARY:All-Inclusive Zumba
END:VEVENT
END:VCALENDAR
