BEGIN:VCALENDAR
VERSION:2.0
PRODID:-//www.dsala.org//NONSGML kigkonsult.se iCalcreator 2.30.10//
CALSCALE:GREGORIAN
METHOD:PUBLISH
UID:87ea875c-ea45-480f-84d7-eecac05e0be7
X-WR-CALDESC:<b>All-Inclusive Zumba</b>\nHigh energy\, calorie-burning danc
 e party modified for individuals with special needs.\n\nJoin the fun!
X-WR-RELCALID:de81742dbe4dd7d71d38b47ec04a3db0
X-WR-TIMEZONE:America/Los_Angeles
BEGIN:VTIMEZONE
TZID:America/Los_Angeles
BEGIN:STANDARD
TZNAME:PST
DTSTART:20251102T020000
TZOFFSETFROM:-0700
TZOFFSETTO:-0800
RDATE:20261101T020000
RDATE:20271107T020000
END:STANDARD
BEGIN:DAYLIGHT
TZNAME:PDT
DTSTART:20260308T020000
TZOFFSETFROM:-0800
TZOFFSETTO:-0700
RDATE:20270314T020000
RDATE:20280312T020000
END:DAYLIGHT
END:VTIMEZONE
BEGIN:VEVENT
UID:7ec936ba-074f-487d-a2e2-75080d30e49a
DTSTAMP:20260419T222127Z
DESCRIPTION:<b>All-Inclusive Zumba</b>\nHigh energy\, calorie-burning dance
  party modified for individuals with special needs.\n\nJoin the fun!
DTSTART;TZID=America/Los_Angeles:20260916T180000
DTEND;TZID=America/Los_Angeles:20260916T190000
LOCATION:San Fernando Park 208 Park Avenue  San Fernando\, CA 91340
SUMMARY:All-Inclusive Zumba
END:VEVENT
END:VCALENDAR
