BEGIN:VCALENDAR
VERSION:2.0
PRODID:-//www.dsala.org//NONSGML kigkonsult.se iCalcreator 2.30.10//
CALSCALE:GREGORIAN
METHOD:PUBLISH
UID:8adb3507-8c83-45a0-b7c7-3f51ff138ef3
X-WR-CALDESC:<b>All-Inclusive Zumba</b>\nHigh energy\, calorie-burning danc
 e party modified for individuals with special needs.\n\nJoin the fun!
X-WR-RELCALID:41aa03737691cc44cfa3f65e3011f75c
X-WR-TIMEZONE:America/Los_Angeles
BEGIN:VTIMEZONE
TZID:America/Los_Angeles
BEGIN:STANDARD
TZNAME:PST
DTSTART:20251102T020000
TZOFFSETFROM:-0700
TZOFFSETTO:-0800
RDATE:20261101T020000
RDATE:20271107T020000
END:STANDARD
BEGIN:DAYLIGHT
TZNAME:PDT
DTSTART:20260308T020000
TZOFFSETFROM:-0800
TZOFFSETTO:-0700
RDATE:20270314T020000
END:DAYLIGHT
END:VTIMEZONE
BEGIN:VEVENT
UID:0ffc2087-d72b-43eb-af37-3997e63baa3c
DTSTAMP:20260419T205506Z
DESCRIPTION:<b>All-Inclusive Zumba</b>\nHigh energy\, calorie-burning dance
  party modified for individuals with special needs.\n\nJoin the fun!
DTSTART;TZID=America/Los_Angeles:20260826T180000
DTEND;TZID=America/Los_Angeles:20260826T190000
LOCATION:San Fernando Park 208 Park Avenue  San Fernando\, CA 91340
SUMMARY:All-Inclusive Zumba
END:VEVENT
END:VCALENDAR
