BEGIN:VCALENDAR
VERSION:2.0
PRODID:-//www.dsala.org//NONSGML kigkonsult.se iCalcreator 2.30.10//
CALSCALE:GREGORIAN
METHOD:PUBLISH
UID:9032eb0a-156b-4e6b-bba4-d128a96bda6e
X-WR-CALDESC:<b>CONSERVATORSHIP</b>\nJoin us for an informative and eye-ope
 ning event on conservatorships\, led by experienced attorney Susan B. Geff
 en. Families are often faced with difficult decisions when a loved one beg
 ins to struggle with medical\, financial\, or mental health challenges—thi
 s session will help you better understand when a conservatorship may be ne
 cessary and how to navigate the process with confidence. Whether you're pl
 anning ahead or currently facing these decisions\, this event will provide
  the clarity and guidance you need to protect your loved ones.\n\n<b>Prese
 nter:</b>\nSusan Geffen is a highly respected elder law attorney with over
  30 years of experience advocating for seniors and their families. Special
 izing in conservatorships\, estate planning\, and probate\, she brings bot
 h deep legal expertise and compassion to some of life’s most difficult dec
 isions. A former elder law professor with a Master’s degree in Gerontology
 \, Susan is a trusted voice on aging with dignity. She is also a sought-af
 ter national speaker whose engaging seminars have educated more than 20\,0
 00 attendees on elder care and family decision-making. Known for her pract
 ical guidance and real-world insight\, Susan empowers families to navigate
  complex situations with clarity and confidence.
X-WR-RELCALID:4beed55dcf4454a6b51a6cda19044ea0
X-WR-TIMEZONE:America/Los_Angeles
BEGIN:VTIMEZONE
TZID:America/Los_Angeles
BEGIN:STANDARD
TZNAME:PST
DTSTART:20251102T020000
TZOFFSETFROM:-0700
TZOFFSETTO:-0800
RDATE:20261101T020000
RDATE:20271107T020000
END:STANDARD
BEGIN:DAYLIGHT
TZNAME:PDT
DTSTART:20260308T020000
TZOFFSETFROM:-0800
TZOFFSETTO:-0700
RDATE:20270314T020000
END:DAYLIGHT
END:VTIMEZONE
BEGIN:VEVENT
UID:0bd097f5-8c4b-4f92-91b0-3985e2f1ce51
DTSTAMP:20260419T203700Z
DESCRIPTION:<b>CONSERVATORSHIP</b>\nJoin us for an informative and eye-open
 ing event on conservatorships\, led by experienced attorney Susan B. Geffe
 n. Families are often faced with difficult decisions when a loved one begi
 ns to struggle with medical\, financial\, or mental health challenges—this
  session will help you better understand when a conservatorship may be nec
 essary and how to navigate the process with confidence. Whether you're pla
 nning ahead or currently facing these decisions\, this event will provide 
 the clarity and guidance you need to protect your loved ones.\n\n<b>Presen
 ter:</b>\nSusan Geffen is a highly respected elder law attorney with over 
 30 years of experience advocating for seniors and their families. Speciali
 zing in conservatorships\, estate planning\, and probate\, she brings both
  deep legal expertise and compassion to some of life’s most difficult deci
 sions. A former elder law professor with a Master’s degree in Gerontology\
 , Susan is a trusted voice on aging with dignity. She is also a sought-aft
 er national speaker whose engaging seminars have educated more than 20\,00
 0 attendees on elder care and family decision-making. Known for her practi
 cal guidance and real-world insight\, Susan empowers families to navigate 
 complex situations with clarity and confidence.
DTSTART;TZID=America/Los_Angeles:20260815T100000
DTEND;TZID=America/Los_Angeles:20260815T110000
LOCATION:https://us02web.zoom.us/j/81757724974?pwd=Ar6lA3546QAmP2YVplX3A3jE
 F7qnnc.1
SUMMARY:Conservatorship
END:VEVENT
END:VCALENDAR
