BEGIN:VCALENDAR
VERSION:2.0
PRODID:-//www.dsala.org//NONSGML kigkonsult.se iCalcreator 2.30.10//
CALSCALE:GREGORIAN
METHOD:PUBLISH
UID:7a084b27-b94f-4269-b371-8aef2b179590
X-WR-CALDESC:<b>MULTIPLY THE POSSIBILITIES: MATH APPS AND WEBSITES FOR K-12
 </b>\nAre your students experiencing challenges with math? Are you looking
  for different ways to teach\, practice or reinforce key concepts? Join us
  as we explore a variety of useful apps and websites geared toward early m
 ath\, elementary\, middle\, and high school levels. \n\n<b>Presenter:</b>
 \nElizabeth Ortega is an Assistive Technology Coordinator at TASK with ove
 r 15 years of experience supporting individuals with disabilities\, famili
 es\, and professionals through assistive technology services and education
 . She has a background in early childhood education and holds a certificat
 e in Assistive Technology Applications from California State University\, 
 Northridge.\n\nTASK supports families in navigating special education\, di
 sability services\, assistive technology\, emotional support\, information
 \, and guidance. Additionally\, they facilitate connections with other age
 ncies for additional services when needed. Their goal is to promote cooper
 ation between families and schools to improve children's achievements.
X-WR-RELCALID:5e07d67a66af7d0c34e1ad00221fa08b
X-WR-TIMEZONE:America/Los_Angeles
BEGIN:VTIMEZONE
TZID:America/Los_Angeles
BEGIN:STANDARD
TZNAME:PST
DTSTART:20251102T020000
TZOFFSETFROM:-0700
TZOFFSETTO:-0800
RDATE:20261101T020000
RDATE:20271107T020000
END:STANDARD
BEGIN:DAYLIGHT
TZNAME:PDT
DTSTART:20260308T020000
TZOFFSETFROM:-0800
TZOFFSETTO:-0700
RDATE:20270314T020000
END:DAYLIGHT
END:VTIMEZONE
BEGIN:VEVENT
UID:5279cb76-4ddf-4044-bcee-ec803273b483
DTSTAMP:20260419T190738Z
DESCRIPTION:<b>MULTIPLY THE POSSIBILITIES: MATH APPS AND WEBSITES FOR K-12<
 /b>\nAre your students experiencing challenges with math? Are you looking 
 for different ways to teach\, practice or reinforce key concepts? Join us 
 as we explore a variety of useful apps and websites geared toward early ma
 th\, elementary\, middle\, and high school levels. \n\n<b>Presenter:</b>\n
 Elizabeth Ortega is an Assistive Technology Coordinator at TASK with over 
 15 years of experience supporting individuals with disabilities\, families
 \, and professionals through assistive technology services and education. 
 She has a background in early childhood education and holds a certificate 
 in Assistive Technology Applications from California State University\, No
 rthridge.\n\nTASK supports families in navigating special education\, disa
 bility services\, assistive technology\, emotional support\, information\,
  and guidance. Additionally\, they facilitate connections with other agenc
 ies for additional services when needed. Their goal is to promote cooperat
 ion between families and schools to improve children's achievements.
DTSTART;TZID=America/Los_Angeles:20260718T100000
DTEND;TZID=America/Los_Angeles:20260718T113000
LOCATION:https://us02web.zoom.us/j/83050647423?pwd=ybl47v8njugrHjpzmF4Tpobc
 G5dHRf.1
SUMMARY:Multiply the Possibilities: Math Apps and Websites for K-12
END:VEVENT
END:VCALENDAR
