BEGIN:VCALENDAR
VERSION:2.0
PRODID:-//www.dsala.org//NONSGML kigkonsult.se iCalcreator 2.30.10//
CALSCALE:GREGORIAN
METHOD:PUBLISH
UID:acd5b89f-2b92-4f10-b8e6-fbb148e2a0c5
X-WR-CALDESC:<b>All-Inclusive Zumba</b>\nHigh energy\, calorie-burning danc
 e party modified for individuals with special needs.\n\nJoin the fun!
X-WR-RELCALID:47501d1b4401d77a7d2b0aaf468d78b5
X-WR-TIMEZONE:America/Los_Angeles
BEGIN:VTIMEZONE
TZID:America/Los_Angeles
BEGIN:STANDARD
TZNAME:PST
DTSTART:20251102T020000
TZOFFSETFROM:-0700
TZOFFSETTO:-0800
RDATE:20261101T020000
RDATE:20271107T020000
END:STANDARD
BEGIN:DAYLIGHT
TZNAME:PDT
DTSTART:20260308T020000
TZOFFSETFROM:-0800
TZOFFSETTO:-0700
RDATE:20270314T020000
END:DAYLIGHT
END:VTIMEZONE
BEGIN:VEVENT
UID:f9c3735f-a8e1-4a61-b79d-fe18b3ad31e9
DTSTAMP:20260419T191111Z
DESCRIPTION:<b>All-Inclusive Zumba</b>\nHigh energy\, calorie-burning dance
  party modified for individuals with special needs.\n\nJoin the fun!
DTSTART;TZID=America/Los_Angeles:20260715T180000
DTEND;TZID=America/Los_Angeles:20260715T190000
LOCATION:San Fernando Park 208 Park Avenue  San Fernando\, CA 91340
SUMMARY:All-Inclusive Zumba
END:VEVENT
END:VCALENDAR
