BEGIN:VCALENDAR
VERSION:2.0
PRODID:-//www.dsala.org//NONSGML kigkonsult.se iCalcreator 2.30.10//
CALSCALE:GREGORIAN
METHOD:PUBLISH
UID:5500e9c6-bcee-40e9-89fd-9164b015a15f
X-WR-CALDESC:<b>PREVENTING CAREGIVING OVERLOAD</b>\nCaring for a loved one 
 with Down syndrome can be rewarding--but it can also feel overwhelming Thi
 s workshop will help families recognize signs of stress\, learn practical 
 strategies to manage caregiving demands\, and explore how therapy or couns
 eling can support mental and emotional well-being. \n\n<b>Presenter:</b>\n
 Deborah Buttitta\, Psy.D.\, LMFT\, is an Assistant Professor in the marria
 ge and family therapy program at California State University\, Northridge 
 (CSUN). She has over 25 years of experience educating\, training\, and sup
 ervising in the field of marriage and family therapy. She is also a licens
 ed marriage and family therapist and has been in clinical practice for ove
 r 25 years\, supporting individuals\, couples\, and families with various 
 mental health and stage-of-life issues. Dr. Buttitta collaborates with mul
 tiple partners within the CSUN community\, including\, the Teaching Learni
 ng and Counseling Consortium\, Strength United\, Family Focus Resource Cen
 ter\, Mitchell Family Counseling Center\, and Project Rebound.
X-WR-RELCALID:f2e59a2e833dd24639c65289210027d5
X-WR-TIMEZONE:America/Los_Angeles
BEGIN:VTIMEZONE
TZID:America/Los_Angeles
BEGIN:STANDARD
TZNAME:PST
DTSTART:20251102T020000
TZOFFSETFROM:-0700
TZOFFSETTO:-0800
RDATE:20261101T020000
RDATE:20271107T020000
END:STANDARD
BEGIN:DAYLIGHT
TZNAME:PDT
DTSTART:20260308T020000
TZOFFSETFROM:-0800
TZOFFSETTO:-0700
RDATE:20270314T020000
END:DAYLIGHT
END:VTIMEZONE
BEGIN:VEVENT
UID:a91e7437-8b75-47f2-947b-8b37b1a1c40a
DTSTAMP:20260419T173143Z
DESCRIPTION:<b>PREVENTING CAREGIVING OVERLOAD</b>\nCaring for a loved one w
 ith Down syndrome can be rewarding--but it can also feel overwhelming This
  workshop will help families recognize signs of stress\, learn practical s
 trategies to manage caregiving demands\, and explore how therapy or counse
 ling can support mental and emotional well-being. \n\n<b>Presenter:</b>\nD
 eborah Buttitta\, Psy.D.\, LMFT\, is an Assistant Professor in the marriag
 e and family therapy program at California State University\, Northridge (
 CSUN). She has over 25 years of experience educating\, training\, and supe
 rvising in the field of marriage and family therapy. She is also a license
 d marriage and family therapist and has been in clinical practice for over
  25 years\, supporting individuals\, couples\, and families with various m
 ental health and stage-of-life issues. Dr. Buttitta collaborates with mult
 iple partners within the CSUN community\, including\, the Teaching Learnin
 g and Counseling Consortium\, Strength United\, Family Focus Resource Cent
 er\, Mitchell Family Counseling Center\, and Project Rebound.
DTSTART;TZID=America/Los_Angeles:20260620T100000
DTEND;TZID=America/Los_Angeles:20260620T110000
LOCATION:https://us02web.zoom.us/j/81523091513?pwd=4YXVNBRgMnNYZJ4EYbZDhDtq
 CVT5lA.1
SUMMARY:Preventing Caregiving Overload
END:VEVENT
END:VCALENDAR
