BEGIN:VCALENDAR
VERSION:2.0
PRODID:-//www.dsala.org//NONSGML kigkonsult.se iCalcreator 2.30.10//
CALSCALE:GREGORIAN
METHOD:PUBLISH
UID:de00a6ca-d791-40c7-b8f2-8f6d126c2770
X-WR-CALDESC:<b>DOWN SYNDROME AND ALZHEIMER'S DISEASE</b> \n\nEric Doran an
 d Sharon Trocki-Miller will be answering questions about the connections b
 etween Down Syndrome and Alzheimer's disease.\n\n<b>Guest Speakers:</b> \n
 \n<b>Eric Doran</b>\nEric Doran\, MS\, serves as manager for the UCI Down 
 Syndrome Program\, directed by Ira Lott\, MD\, professor emeritus of pedia
 trics and neurology. Mr. Doran holds a master's degree in genetic counseli
 ng. He has extensive clinical and research experience working with people 
 with Down syndrome and their family members for the past two decades. He h
 as published numerous important research findings on the link between Down
  syndrome and Alzheimer's disease.\n\n<b>Sharon Trocki-Miller</b>\nSharon 
 Trocki-Miller is a Family Advocate. She spent five years on the State Alzh
 eimer's Advisory Committee\, advocating for people with disabilities. She 
 ran a family support group for ten years at a program for adults with disa
 bilities in North Hollywood. Along with an Alzheimer's Disease (AD) and Do
 wn's Syndrome (DS) support group for Alzheimer's LA. That group ran for fi
 ve years and was cut short due to Covid. She recently started a new AD/DS 
 support group with Alzheimer's LA that meets on the first and third Wednes
 day of each month. She is extremely grateful that she had the opportunity 
 to be her sister's caregiver until she passed away from Alzheimer's.
X-WR-RELCALID:be3f58cdbef397d8509c64eb2a9c118c
X-WR-TIMEZONE:America/Los_Angeles
BEGIN:VTIMEZONE
TZID:America/Los_Angeles
BEGIN:STANDARD
TZNAME:PST
DTSTART:20251102T020000
TZOFFSETFROM:-0700
TZOFFSETTO:-0800
RDATE:20261101T020000
RDATE:20271107T020000
END:STANDARD
BEGIN:DAYLIGHT
TZNAME:PDT
DTSTART:20260308T020000
TZOFFSETFROM:-0800
TZOFFSETTO:-0700
RDATE:20270314T020000
END:DAYLIGHT
END:VTIMEZONE
BEGIN:VEVENT
UID:46c413eb-cb1c-4353-a3a7-fcbed760c98e
DTSTAMP:20260419T160912Z
DESCRIPTION:<b>DOWN SYNDROME AND ALZHEIMER'S DISEASE</b> \n\nEric Doran and
  Sharon Trocki-Miller will be answering questions about the connections be
 tween Down Syndrome and Alzheimer's disease.\n\n<b>Guest Speakers:</b> \n
 \n<b>Eric Doran</b>\nEric Doran\, MS\, serves as manager for the UCI Down 
 Syndrome Program\, directed by Ira Lott\, MD\, professor emeritus of pedia
 trics and neurology. Mr. Doran holds a master's degree in genetic counseli
 ng. He has extensive clinical and research experience working with people 
 with Down syndrome and their family members for the past two decades. He h
 as published numerous important research findings on the link between Down
  syndrome and Alzheimer's disease.\n\n<b>Sharon Trocki-Miller</b>\nSharon 
 Trocki-Miller is a Family Advocate. She spent five years on the State Alzh
 eimer's Advisory Committee\, advocating for people with disabilities. She 
 ran a family support group for ten years at a program for adults with disa
 bilities in North Hollywood. Along with an Alzheimer's Disease (AD) and Do
 wn's Syndrome (DS) support group for Alzheimer's LA. That group ran for fi
 ve years and was cut short due to Covid. She recently started a new AD/DS 
 support group with Alzheimer's LA that meets on the first and third Wednes
 day of each month. She is extremely grateful that she had the opportunity 
 to be her sister's caregiver until she passed away from Alzheimer's.
DTSTART;TZID=America/Los_Angeles:20260516T100000
DTEND;TZID=America/Los_Angeles:20260516T110000
LOCATION:https://us02web.zoom.us/j/85831227849?pwd=yDpBIArn1GwWXYThUaaET5oi
 BMj99C.1
SUMMARY:Down Syndrome and Alzheimer's Disease
END:VEVENT
END:VCALENDAR
