BEGIN:VCALENDAR
VERSION:2.0
PRODID:-//www.dsala.org//NONSGML kigkonsult.se iCalcreator 2.30.10//
CALSCALE:GREGORIAN
METHOD:PUBLISH
UID:e44fe1f0-3dba-4f06-933e-c919d88cf0f8
X-WR-CALDESC:<b>ZOOZ FITNESS X DSALA: STRONGER TOGETHER \nSession 2\nApril 
 1st-May 9th\nWednesdays & Saturdays @ 4:30 PM</b> \n\nJoin ZOOZ Fitness an
 d the Down Syndrome Association of Los Angeles (DSALA) for a 6-week virtua
 l fitness series designed to help you move\, grow\, and feel your best - a
 ll from home! \n\nEach session blends strength\, balance\, flexibility\, a
 nd endurance in fun\, adaptive workouts led by our certified ZOOZ Fitness 
 coaches. These sessions are designed for all ability levels\, promoting co
 nfidence\, health\, and community in a supportive environment. \n\n<a href
 ='https://www.dsala.org/what-we-do/calendar.html/event/2026/04/01/17750898
 00/zooz-fitness-session-2/553020'>REGISTER HERE</a>
X-WR-RELCALID:5cad0b00097473f554ba472b61c96587
X-WR-TIMEZONE:America/Los_Angeles
BEGIN:VTIMEZONE
TZID:America/Los_Angeles
BEGIN:STANDARD
TZNAME:PST
DTSTART:20251102T020000
TZOFFSETFROM:-0700
TZOFFSETTO:-0800
RDATE:20261101T020000
RDATE:20271107T020000
END:STANDARD
BEGIN:DAYLIGHT
TZNAME:PDT
DTSTART:20260308T020000
TZOFFSETFROM:-0800
TZOFFSETTO:-0700
RDATE:20270314T020000
END:DAYLIGHT
END:VTIMEZONE
BEGIN:VEVENT
UID:9b1f46cf-1f3b-494e-a9a2-4a818a306aab
DTSTAMP:20260419T161340Z
DESCRIPTION:<b>ZOOZ FITNESS X DSALA: STRONGER TOGETHER \nSession 2\nApril 1
 st-May 9th\nWednesdays & Saturdays @ 4:30 PM</b> \n\nJoin ZOOZ Fitness and
  the Down Syndrome Association of Los Angeles (DSALA) for a 6-week virtual
  fitness series designed to help you move\, grow\, and feel your best - al
 l from home! \n\nEach session blends strength\, balance\, flexibility\, an
 d endurance in fun\, adaptive workouts led by our certified ZOOZ Fitness c
 oaches. These sessions are designed for all ability levels\, promoting con
 fidence\, health\, and community in a supportive environment. \n\n<a href=
 'https://www.dsala.org/what-we-do/calendar.html/event/2026/04/01/177508980
 0/zooz-fitness-session-2/553020'>REGISTER HERE</a>
DTSTART;TZID=America/Los_Angeles:20260509T163000
DTEND;TZID=America/Los_Angeles:20260509T173000
LOCATION:
SUMMARY:ZOOZ Fitness - Session 2
END:VEVENT
END:VCALENDAR
