BEGIN:VCALENDAR
VERSION:2.0
PRODID:-//www.dsala.org//NONSGML kigkonsult.se iCalcreator 2.30.10//
CALSCALE:GREGORIAN
METHOD:PUBLISH
UID:e764ec16-c5d0-412e-929a-df9b7e25ff5e
X-WR-CALDESC:<b>ZOOZ FITNESS X DSALA: STRONGER TOGETHER \nSession 2\nApril 
 1st-May 9th\nWednesdays & Saturdays @ 4:30 PM</b> \n\nJoin ZOOZ Fitness an
 d the Down Syndrome Association of Los Angeles (DSALA) for a 6-week virtua
 l fitness series designed to help you move\, grow\, and feel your best - a
 ll from home! \n\nEach session blends strength\, balance\, flexibility\, a
 nd endurance in fun\, adaptive workouts led by our certified ZOOZ Fitness 
 coaches. These sessions are designed for all ability levels\, promoting co
 nfidence\, health\, and community in a supportive environment. \n\n<a href
 ='https://www.dsala.org/what-we-do/calendar.html/event/2026/04/01/17750898
 00/zooz-fitness-session-2/553020'>REGISTER HERE</a>
X-WR-RELCALID:0409a8b9f8c3af64ca4c2399291bdc32
X-WR-TIMEZONE:America/Los_Angeles
BEGIN:VTIMEZONE
TZID:America/Los_Angeles
BEGIN:STANDARD
TZNAME:PST
DTSTART:20251102T020000
TZOFFSETFROM:-0700
TZOFFSETTO:-0800
RDATE:20261101T020000
END:STANDARD
BEGIN:DAYLIGHT
TZNAME:PDT
DTSTART:20260308T020000
TZOFFSETFROM:-0800
TZOFFSETTO:-0700
RDATE:20270314T020000
END:DAYLIGHT
END:VTIMEZONE
BEGIN:VEVENT
UID:18266802-4d85-429d-85ba-3ef6b48e3361
DTSTAMP:20260419T130506Z
DESCRIPTION:<b>ZOOZ FITNESS X DSALA: STRONGER TOGETHER \nSession 2\nApril 1
 st-May 9th\nWednesdays & Saturdays @ 4:30 PM</b> \n\nJoin ZOOZ Fitness and
  the Down Syndrome Association of Los Angeles (DSALA) for a 6-week virtual
  fitness series designed to help you move\, grow\, and feel your best - al
 l from home! \n\nEach session blends strength\, balance\, flexibility\, an
 d endurance in fun\, adaptive workouts led by our certified ZOOZ Fitness c
 oaches. These sessions are designed for all ability levels\, promoting con
 fidence\, health\, and community in a supportive environment. \n\n<a href=
 'https://www.dsala.org/what-we-do/calendar.html/event/2026/04/01/177508980
 0/zooz-fitness-session-2/553020'>REGISTER HERE</a>
DTSTART;TZID=America/Los_Angeles:20260425T163000
DTEND;TZID=America/Los_Angeles:20260425T173000
LOCATION:
SUMMARY:ZOOZ Fitness - Session 2
END:VEVENT
END:VCALENDAR
