BEGIN:VCALENDAR
VERSION:2.0
PRODID:-//www.dsala.org//NONSGML kigkonsult.se iCalcreator 2.30.10//
CALSCALE:GREGORIAN
METHOD:PUBLISH
UID:99c9401b-e058-4813-ad3f-85546f258337
X-WR-CALDESC:Caregiver Support Group\nFor family caregivers of individuals 
 with Down syndrome and Alzheimer's disease\n\nMeetings are every first and
  third Wednesday of each month\n\n
X-WR-RELCALID:2138d8bc76906877d9397c2f538e662a
X-WR-TIMEZONE:America/Los_Angeles
BEGIN:VTIMEZONE
TZID:America/Los_Angeles
BEGIN:STANDARD
TZNAME:PST
DTSTART:20251102T020000
TZOFFSETFROM:-0700
TZOFFSETTO:-0800
RDATE:20261101T020000
END:STANDARD
BEGIN:DAYLIGHT
TZNAME:PDT
DTSTART:20260308T020000
TZOFFSETFROM:-0800
TZOFFSETTO:-0700
RDATE:20270314T020000
END:DAYLIGHT
END:VTIMEZONE
BEGIN:VEVENT
UID:1e4e63f1-695e-460d-b962-ddf42be0ad05
DTSTAMP:20260419T141722Z
DESCRIPTION:Caregiver Support Group\nFor family caregivers of individuals w
 ith Down syndrome and Alzheimer's disease\n\nMeetings are every first and 
 third Wednesday of each month\n\n
DTSTART;TZID=America/Los_Angeles:20260415T160000
DTEND;TZID=America/Los_Angeles:20260415T170000
LOCATION:Via Zoom
SUMMARY:Caregiver Support Group
END:VEVENT
END:VCALENDAR
