BEGIN:VCALENDAR
VERSION:2.0
PRODID:-//www.dsala.org//NONSGML kigkonsult.se iCalcreator 2.30.10//
CALSCALE:GREGORIAN
METHOD:PUBLISH
UID:26ebd5b8-c191-4aff-96dc-1f343025d38e
X-WR-CALDESC:<b>REGISTRATION IS NOW CLOSED!</b>\n\n<b>WORLD DOWN SYNDROME D
 AY CELEBRATION\nSaturday\, March 21\, 2026\nEvent Time: 3:00 PM – 6:00 PM
 \nLocation: Granada Hills Community Church\, 11263 Balboa Blvd.\, Granada 
 Hills\, CA 91344 </b>\n\nJoin us as we celebrate World Down Syndrome Day (
 WDSD)—a global awareness day held each year on March 21. We're thrilled to
  come together for an afternoon filled with joy\, dancing\, and community!
 \n\nGet ready to BOOGIE!\n\nThis all-ages dance party will feature:\n<b>Gr
 eat music -  A light meal -  Fun prizes</b>\n\nTickets are <b>FREE</b> for
  individuals with Down Syndrome\, $10.00 for caregivers\, and $20.00 for g
 eneral admission. <b>Registration is required for ALL participants.</b>\n
 \nNo drop-offs – Each participant must register and be accompanied.
X-WR-RELCALID:8df0efe0b25b3b99f5af88b4128fd41e
X-WR-TIMEZONE:America/Los_Angeles
BEGIN:VTIMEZONE
TZID:America/Los_Angeles
BEGIN:STANDARD
TZNAME:PST
DTSTART:20251102T020000
TZOFFSETFROM:-0700
TZOFFSETTO:-0800
RDATE:20261101T020000
END:STANDARD
BEGIN:DAYLIGHT
TZNAME:PDT
DTSTART:20260308T020000
TZOFFSETFROM:-0800
TZOFFSETTO:-0700
RDATE:20270314T020000
END:DAYLIGHT
END:VTIMEZONE
BEGIN:VEVENT
UID:12993270-4d2c-4c73-904d-9f427292477b
DTSTAMP:20260419T124204Z
DESCRIPTION:<b>REGISTRATION IS NOW CLOSED!</b>\n\n<b>WORLD DOWN SYNDROME DA
 Y CELEBRATION\nSaturday\, March 21\, 2026\nEvent Time: 3:00 PM – 6:00 PM\n
 Location: Granada Hills Community Church\, 11263 Balboa Blvd.\, Granada Hi
 lls\, CA 91344 </b>\n\nJoin us as we celebrate World Down Syndrome Day (WD
 SD)—a global awareness day held each year on March 21. We're thrilled to c
 ome together for an afternoon filled with joy\, dancing\, and community!\n
 \nGet ready to BOOGIE!\n\nThis all-ages dance party will feature:\n<b>Grea
 t music -  A light meal -  Fun prizes</b>\n\nTickets are <b>FREE</b> for i
 ndividuals with Down Syndrome\, $10.00 for caregivers\, and $20.00 for gen
 eral admission. <b>Registration is required for ALL participants.</b>\n\nN
 o drop-offs – Each participant must register and be accompanied.
DTSTART;TZID=America/Los_Angeles:20260321T150000
DTEND;TZID=America/Los_Angeles:20260321T180000
LOCATION:
SUMMARY:World Down Syndrome Day Celebration
END:VEVENT
END:VCALENDAR
