BEGIN:VCALENDAR
VERSION:2.0
PRODID:-//www.dsala.org//NONSGML kigkonsult.se iCalcreator 2.30.10//
CALSCALE:GREGORIAN
METHOD:PUBLISH
UID:36c110cf-6dac-45da-b259-17abac8a5482
X-WR-CALDESC:<b>LIFE INSURANCE THAT BUILDS WEALTH WHILE YOU'RE ALIVE\nPlann
 ing Ahead: Funding Your Special Needs Trust</b>\n\nThis presentation chall
 enges the traditional view of life insurance. Learn how Indexed Universal 
 Life (IUL) insurance can be used to grow wealth\, access funds tax-efficie
 ntly\, and create long-term financial confidence—all while providing lifet
 ime protection. Discover how Larry Baker Insurance helps individuals with 
 disabilities and their families leverage IUL as a strategic tool for accum
 ulation\, flexibility\, and legacy planning.\n\n<b>EL SEGURO DE VIDA QUE G
 ENERA PATRIMONIO MIENTRAS USTED VIVE\nPlanificación anticipada: Financiar 
 su Fideicomiso de Necesidades Especiales</b>\n\nEsta presentación desafía 
 la idea tradicional del seguro de vida. Aprenda cómo el Seguro de Vida Uni
 versal Indexado (IUL\, por sus siglas en inglés) puede utilizarse para gen
 erar patrimonio\, acceder a fondos de manera eficiente desde el punto de v
 ista fiscal y crear seguridad financiera a largo plazo\, todo mientras bri
 nda protección de por vida. Descubra cómo Larry Baker Insurance ayuda a pe
 rsonas con discapacidades y a sus familias a utilizar el IUL como una herr
 amienta estratégica para la acumulación\, la flexibilidad financiera y la 
 planificación del legado.\n\n\n<b>Presented by Larry Baker Insurance</b>\n
 Larry Baker\, father of an adult son with Down syndrome and T21 Walk spons
 or\, is committed to helping families protect what matters most\, includin
 g guidance on funding Special Needs Trusts to secure a loved one’s future.
 \n\n<b>Presentado por Larry Baker Insurance</b>\nLarry Baker\, padre de un
  hijo adulto con síndrome de Down y patrocinador de la Caminata T21\, está
  comprometido a ayudar a las familias a proteger lo que más importa\, ofre
 ciendo orientación para financiar fideicomisos de necesidades especiales y
  asegurar el futuro de un ser querido.
X-WR-RELCALID:b0d57138405ed760b7d6441d44d7a5ee
X-WR-TIMEZONE:America/Los_Angeles
BEGIN:VTIMEZONE
TZID:America/Los_Angeles
BEGIN:STANDARD
TZNAME:PST
DTSTART:20251102T020000
TZOFFSETFROM:-0700
TZOFFSETTO:-0800
RDATE:20261101T020000
END:STANDARD
BEGIN:DAYLIGHT
TZNAME:PDT
DTSTART:20260308T020000
TZOFFSETFROM:-0800
TZOFFSETTO:-0700
RDATE:20270314T020000
END:DAYLIGHT
END:VTIMEZONE
BEGIN:VEVENT
UID:ffd8753b-a198-442a-a87b-844a05810c80
DTSTAMP:20260419T130506Z
DESCRIPTION:<b>LIFE INSURANCE THAT BUILDS WEALTH WHILE YOU'RE ALIVE\nPlanni
 ng Ahead: Funding Your Special Needs Trust</b>\n\nThis presentation challe
 nges the traditional view of life insurance. Learn how Indexed Universal L
 ife (IUL) insurance can be used to grow wealth\, access funds tax-efficien
 tly\, and create long-term financial confidence—all while providing lifeti
 me protection. Discover how Larry Baker Insurance helps individuals with d
 isabilities and their families leverage IUL as a strategic tool for accumu
 lation\, flexibility\, and legacy planning.\n\n<b>EL SEGURO DE VIDA QUE GE
 NERA PATRIMONIO MIENTRAS USTED VIVE\nPlanificación anticipada: Financiar s
 u Fideicomiso de Necesidades Especiales</b>\n\nEsta presentación desafía l
 a idea tradicional del seguro de vida. Aprenda cómo el Seguro de Vida Univ
 ersal Indexado (IUL\, por sus siglas en inglés) puede utilizarse para gene
 rar patrimonio\, acceder a fondos de manera eficiente desde el punto de vi
 sta fiscal y crear seguridad financiera a largo plazo\, todo mientras brin
 da protección de por vida. Descubra cómo Larry Baker Insurance ayuda a per
 sonas con discapacidades y a sus familias a utilizar el IUL como una herra
 mienta estratégica para la acumulación\, la flexibilidad financiera y la p
 lanificación del legado.\n\n\n<b>Presented by Larry Baker Insurance</b>\nL
 arry Baker\, father of an adult son with Down syndrome and T21 Walk sponso
 r\, is committed to helping families protect what matters most\, including
  guidance on funding Special Needs Trusts to secure a loved one’s future.
 \n\n<b>Presentado por Larry Baker Insurance</b>\nLarry Baker\, padre de un
  hijo adulto con síndrome de Down y patrocinador de la Caminata T21\, está
  comprometido a ayudar a las familias a proteger lo que más importa\, ofre
 ciendo orientación para financiar fideicomisos de necesidades especiales y
  asegurar el futuro de un ser querido.
DTSTART;TZID=America/Los_Angeles:20260314T100000
DTEND;TZID=America/Los_Angeles:20260314T110000
LOCATION:Zoom | Event also in Spanish - Evento también en español
SUMMARY:Life Insurance That Builds Wealth While You’re Alive
END:VEVENT
END:VCALENDAR
