BEGIN:VCALENDAR
VERSION:2.0
PRODID:-//www.dsala.org//NONSGML kigkonsult.se iCalcreator 2.30.10//
CALSCALE:GREGORIAN
METHOD:PUBLISH
UID:474a32c7-2620-4ae4-a08e-d5aae4225e3b
X-WR-CALDESC:<b>Cultivar & Crecer - Grupo de Apoyo</b>\nEs un grupo de apoy
 o para padres y familiares de personas con necesidades especiales\, enfoca
 do en brindar apoyo a las familias de habla hispana. Con el objetivo de br
 indar apoyo emocional\, conferencias y talleres educativos que contribuyan
  al bienestar y al desarrollo de las personas con necesidades especiales.
 \n\n<b>Le invita a la reunión de este mes</b>\nNos gustaría compartir con 
 familias de niños con necesidades especiales un momento invaluable para co
 nectarnos\, apoyarnos y celebrar juntos nuestras experiencias. ¡Esperamos 
 verlos y crear recuerdos inolvidables!\n<b>Fecha: Marzo 13\nHora: 06.30-08
 .30 PM\nPanera Bread\n19662 Nordhoff St\, Northridge\, CA 91324</b>\n\n***
 ********************************************************************\nPare
 nt support group for Spanish-speaking families of individuals with special
  needs.  \n\nPlease check the calendar of events for more information.
X-WR-RELCALID:9af40d621025baf72ff7dfeb979c4c80
X-WR-TIMEZONE:America/Los_Angeles
BEGIN:VTIMEZONE
TZID:America/Los_Angeles
BEGIN:STANDARD
TZNAME:PST
DTSTART:20251102T020000
TZOFFSETFROM:-0700
TZOFFSETTO:-0800
RDATE:20261101T020000
END:STANDARD
BEGIN:DAYLIGHT
TZNAME:PDT
DTSTART:20260308T020000
TZOFFSETFROM:-0800
TZOFFSETTO:-0700
RDATE:20270314T020000
END:DAYLIGHT
END:VTIMEZONE
BEGIN:VEVENT
UID:7b9c21af-62ae-4998-8699-ac5453fc056b
DTSTAMP:20260419T125421Z
DESCRIPTION:<b>Cultivar & Crecer - Grupo de Apoyo</b>\nEs un grupo de apoyo
  para padres y familiares de personas con necesidades especiales\, enfocad
 o en brindar apoyo a las familias de habla hispana. Con el objetivo de bri
 ndar apoyo emocional\, conferencias y talleres educativos que contribuyan 
 al bienestar y al desarrollo de las personas con necesidades especiales.\n
 \n<b>Le invita a la reunión de este mes</b>\nNos gustaría compartir con fa
 milias de niños con necesidades especiales un momento invaluable para cone
 ctarnos\, apoyarnos y celebrar juntos nuestras experiencias. ¡Esperamos ve
 rlos y crear recuerdos inolvidables!\n<b>Fecha: Marzo 13\nHora: 06.30-08.3
 0 PM\nPanera Bread\n19662 Nordhoff St\, Northridge\, CA 91324</b>\n\n*****
 ******************************************************************\nParent
  support group for Spanish-speaking families of individuals with special n
 eeds.  \n\nPlease check the calendar of events for more information.
DTSTART;TZID=America/Los_Angeles:20260313T183000
DTEND;TZID=America/Los_Angeles:20260313T203000
LOCATION:
SUMMARY:Cultivar & Crecer Parent Support Group [En Persona]
END:VEVENT
END:VCALENDAR
