BEGIN:VCALENDAR
VERSION:2.0
PRODID:-//www.dsala.org//NONSGML kigkonsult.se iCalcreator 2.30.10//
CALSCALE:GREGORIAN
METHOD:PUBLISH
UID:db38f692-273c-44bb-9f49-c9214e9e5298
X-WR-CALDESC:<b>ZOOZ FITNESS X DSALA: STRONGER TOGETHER \nSession 1\nFebrua
 ry 4th-March 14th\nWednesdays & Saturdays @ 4:30 PM</b> \n\nJoin ZOOZ Fitn
 ess and the Down Syndrome Association of Los Angeles (DSALA) for a 6-week 
 virtual fitness series designed to help you move\, grow\, and feel your be
 st - all from home! \n\nEach session blends strength\, balance\, flexibili
 ty\, and endurance in fun\, adaptive workouts led by our certified ZOOZ Fi
 tness coaches. These sessions are designed for all ability levels\, promot
 ing confidence\, health\, and community in a supportive environment. \n\n<
 b><a href='https://forms.monday.com/forms/c43e8e2f257dc77172dfc62f3075e333
 ?r=use1'>REGISTER HERE</a></b>
X-WR-RELCALID:1424ed0322a5c2e49bf0087c2154863f
X-WR-TIMEZONE:America/Los_Angeles
BEGIN:VTIMEZONE
TZID:America/Los_Angeles
BEGIN:STANDARD
TZNAME:PST
DTSTART:20251102T020000
TZOFFSETFROM:-0700
TZOFFSETTO:-0800
RDATE:20261101T020000
END:STANDARD
BEGIN:DAYLIGHT
TZNAME:PDT
DTSTART:20250309T020000
TZOFFSETFROM:-0800
TZOFFSETTO:-0700
RDATE:20260308T020000
RDATE:20270314T020000
END:DAYLIGHT
END:VTIMEZONE
BEGIN:VEVENT
UID:935f4ad3-8ca6-410f-90bf-15699d45d887
DTSTAMP:20260419T131406Z
DESCRIPTION:<b>ZOOZ FITNESS X DSALA: STRONGER TOGETHER \nSession 1\nFebruar
 y 4th-March 14th\nWednesdays & Saturdays @ 4:30 PM</b> \n\nJoin ZOOZ Fitne
 ss and the Down Syndrome Association of Los Angeles (DSALA) for a 6-week v
 irtual fitness series designed to help you move\, grow\, and feel your bes
 t - all from home! \n\nEach session blends strength\, balance\, flexibilit
 y\, and endurance in fun\, adaptive workouts led by our certified ZOOZ Fit
 ness coaches. These sessions are designed for all ability levels\, promoti
 ng confidence\, health\, and community in a supportive environment. \n\n<b
 ><a href='https://forms.monday.com/forms/c43e8e2f257dc77172dfc62f3075e333?
 r=use1'>REGISTER HERE</a></b>
DTSTART;TZID=America/Los_Angeles:20260304T163000
DTEND;TZID=America/Los_Angeles:20260304T173000
LOCATION:On Zoom
SUMMARY:ZOOZ Fitness - Session 1
END:VEVENT
END:VCALENDAR
