BEGIN:VCALENDAR
VERSION:2.0
PRODID:-//www.dsala.org//NONSGML kigkonsult.se iCalcreator 2.30.10//
CALSCALE:GREGORIAN
METHOD:PUBLISH
UID:7c78ce15-612e-4e38-8d2e-5990e7bf9003
X-WR-CALDESC:<b>SOCIAL SECURITY DISABILITY INSURANCE (SSDI) AND SOCIAL SECU
 RITY INCOME (SSI)</b>\n\nThe Office of Clients’ Rights Advocacy will prese
 nt the basics of Social Security Disability Insurance (SSDI) and Supplemen
 tal Security Income (SSI). The presentation will cover which benefits chil
 dren and adults get\, the difference between SSDI and SSI\, how the Social
  Security Administration (SSA) defines a disability\, and substantial gain
 ful activity. The presentation also covers how much money recipients can g
 et\, how to apply for benefits\, how the appeals/hearing process works\, a
 nd how to avoid an overpayment issue.  It also touches on CalABLE accounts
  and Special Needs Trusts in the context of SSDI/SSI.\n\n<b>SEGURO POR INC
 APACIDAD DEL SEGURO SOCIAL (SSDI) E INGRESO SUPLEMENTARIO DE SEGURIDAD (SS
 I)</b>\nLa Oficina de Defensa de los Derechos de los Clientes presentará i
 nformación básica sobre SSDI y SSI. La charla explicará qué beneficios pue
 den recibir niños y adultos\, la diferencia entre SSDI y SSI\, y cómo la A
 dministración del Seguro Social define una discapacidad. También se explic
 ará cuánto dinero se puede recibir\, cómo solicitar los beneficios\, cómo 
 funciona el proceso de apelación\, y cómo evitar problemas por pagos en ex
 ceso. Finalmente\, se dará una breve explicación sobre las cuentas CalABLE
  y los Fideicomisos para Necesidades Especiales.\n\n\n<b>Guest Speakers:</
 b>\n\n<b>Erica Rodriguez</b>\nErica Rodriguez is the Clients’ Rights Advoc
 ate (CRA) for the North Los Angeles County Regional Center (NLACRC) with D
 isability Rights California\, a role she has held since April 2024. She is
  a Registered Legal Aid Attorney in California and a licensed attorney in 
 Massachusetts. Erica provides legal advocacy to support individuals with d
 isabilities in accessing the services and protections guaranteed under the
  law. She previously worked in immigration law\, including at the U.S. Dep
 artment of Justice\, and earned her J.D. from The George Washington Univer
 sity Law School and a B.S. from Northeastern University. \n\n<b>Whitney Ja
 rquin Parente</b>\nWhitney Jarquin Parente is the Assistant Clients’ Right
 s Advocate (ACRA) for the North Los Angeles County Regional Center (NLACRC
 ) with Disability Rights California\, a role she has held since July 2024.
  She previously worked as a Special Education Teacher with LAUSD and serve
 d as a Recreation Coordinator and Recreation Director with the City of Los
  Angeles Department of Recreation and Parks\, supporting inclusive and ada
 ptive programs through PlayLA. Whitney also worked as an Inclusion Facilit
 ator with Inclusion Matters by Shane’s Inspiration\, advancing access and 
 inclusion for people of all abilities.\n\n\n<b>Oradoras Invitadas:</b>\n\n
 <b>Erica Rodriguez</b>\nErica Rodriguez es la Defensora de los Derechos de
  los Clientes (CRA\, por sus siglas en inglés) para el Centro Regional del
  Norte del Condado de Los Ángeles (NLACRC) con Disability Rights Californi
 a\, cargo que ocupa desde abril de 2024. Es abogada registrada de asistenc
 ia legal en California y abogada con licencia en Massachusetts. Erica brin
 da defensa legal para apoyar a las personas con discapacidades en el acces
 o a los servicios y protecciones garantizados por la ley. Anteriormente tr
 abajó en derecho migratorio\, incluyendo en el Departamento de Justicia de
  los Estados Unidos\, y obtuvo su título de J.D. en la Facultad de Derecho
  de The George Washington University y una licenciatura (B.S.) en Northeas
 tern University.\n\n<b>Whitney Jarquin Parente</b>\nWhitney Jarquin Parent
 e es la Defensora Adjunta de los Derechos de los Clientes (ACRA\, por sus 
 siglas en inglés) para el Centro Regional del Norte del Condado de Los Áng
 eles (NLACRC) con Disability Rights California\, cargo que ocupa desde jul
 io de 2024. Anteriormente trabajó como maestra de Educación Especial en LA
 USD y se desempeñó como Coordinadora de Recreación y Directora de Recreaci
 ón en el Departamento de Recreación y Parques de la Ciudad de Los Ángeles\
 , apoyando programas inclusivos y adaptativos a través de PlayLA. Whitney 
 también trabajó como Facilitadora de Inclusión con Inclusion Matters by Sh
 ane’s Inspiration\, promoviendo el acceso y la inclusión para personas de 
 todas las capacidades.
X-WR-RELCALID:1ac4881c5099224dad7df30e43172f16
X-WR-TIMEZONE:America/Los_Angeles
BEGIN:VTIMEZONE
TZID:America/Los_Angeles
BEGIN:STANDARD
TZNAME:PST
DTSTART:20251102T020000
TZOFFSETFROM:-0700
TZOFFSETTO:-0800
RDATE:20261101T020000
END:STANDARD
BEGIN:DAYLIGHT
TZNAME:PDT
DTSTART:20250309T020000
TZOFFSETFROM:-0800
TZOFFSETTO:-0700
RDATE:20260308T020000
RDATE:20270314T020000
END:DAYLIGHT
END:VTIMEZONE
BEGIN:VEVENT
UID:6ebe241c-2629-4a3d-b5a7-362cffc54621
DTSTAMP:20260419T142749Z
DESCRIPTION:<b>SOCIAL SECURITY DISABILITY INSURANCE (SSDI) AND SOCIAL SECUR
 ITY INCOME (SSI)</b>\n\nThe Office of Clients’ Rights Advocacy will presen
 t the basics of Social Security Disability Insurance (SSDI) and Supplement
 al Security Income (SSI). The presentation will cover which benefits child
 ren and adults get\, the difference between SSDI and SSI\, how the Social 
 Security Administration (SSA) defines a disability\, and substantial gainf
 ul activity. The presentation also covers how much money recipients can ge
 t\, how to apply for benefits\, how the appeals/hearing process works\, an
 d how to avoid an overpayment issue.  It also touches on CalABLE accounts 
 and Special Needs Trusts in the context of SSDI/SSI.\n\n<b>SEGURO POR INCA
 PACIDAD DEL SEGURO SOCIAL (SSDI) E INGRESO SUPLEMENTARIO DE SEGURIDAD (SSI
 )</b>\nLa Oficina de Defensa de los Derechos de los Clientes presentará in
 formación básica sobre SSDI y SSI. La charla explicará qué beneficios pued
 en recibir niños y adultos\, la diferencia entre SSDI y SSI\, y cómo la Ad
 ministración del Seguro Social define una discapacidad. También se explica
 rá cuánto dinero se puede recibir\, cómo solicitar los beneficios\, cómo f
 unciona el proceso de apelación\, y cómo evitar problemas por pagos en exc
 eso. Finalmente\, se dará una breve explicación sobre las cuentas CalABLE 
 y los Fideicomisos para Necesidades Especiales.\n\n\n<b>Guest Speakers:</b
 >\n\n<b>Erica Rodriguez</b>\nErica Rodriguez is the Clients’ Rights Advoca
 te (CRA) for the North Los Angeles County Regional Center (NLACRC) with Di
 sability Rights California\, a role she has held since April 2024. She is 
 a Registered Legal Aid Attorney in California and a licensed attorney in M
 assachusetts. Erica provides legal advocacy to support individuals with di
 sabilities in accessing the services and protections guaranteed under the 
 law. She previously worked in immigration law\, including at the U.S. Depa
 rtment of Justice\, and earned her J.D. from The George Washington Univers
 ity Law School and a B.S. from Northeastern University. \n\n<b>Whitney Jar
 quin Parente</b>\nWhitney Jarquin Parente is the Assistant Clients’ Rights
  Advocate (ACRA) for the North Los Angeles County Regional Center (NLACRC)
  with Disability Rights California\, a role she has held since July 2024. 
 She previously worked as a Special Education Teacher with LAUSD and served
  as a Recreation Coordinator and Recreation Director with the City of Los 
 Angeles Department of Recreation and Parks\, supporting inclusive and adap
 tive programs through PlayLA. Whitney also worked as an Inclusion Facilita
 tor with Inclusion Matters by Shane’s Inspiration\, advancing access and i
 nclusion for people of all abilities.\n\n\n<b>Oradoras Invitadas:</b>\n\n<
 b>Erica Rodriguez</b>\nErica Rodriguez es la Defensora de los Derechos de 
 los Clientes (CRA\, por sus siglas en inglés) para el Centro Regional del 
 Norte del Condado de Los Ángeles (NLACRC) con Disability Rights California
 \, cargo que ocupa desde abril de 2024. Es abogada registrada de asistenci
 a legal en California y abogada con licencia en Massachusetts. Erica brind
 a defensa legal para apoyar a las personas con discapacidades en el acceso
  a los servicios y protecciones garantizados por la ley. Anteriormente tra
 bajó en derecho migratorio\, incluyendo en el Departamento de Justicia de 
 los Estados Unidos\, y obtuvo su título de J.D. en la Facultad de Derecho 
 de The George Washington University y una licenciatura (B.S.) en Northeast
 ern University.\n\n<b>Whitney Jarquin Parente</b>\nWhitney Jarquin Parente
  es la Defensora Adjunta de los Derechos de los Clientes (ACRA\, por sus s
 iglas en inglés) para el Centro Regional del Norte del Condado de Los Ánge
 les (NLACRC) con Disability Rights California\, cargo que ocupa desde juli
 o de 2024. Anteriormente trabajó como maestra de Educación Especial en LAU
 SD y se desempeñó como Coordinadora de Recreación y Directora de Recreació
 n en el Departamento de Recreación y Parques de la Ciudad de Los Ángeles\,
  apoyando programas inclusivos y adaptativos a través de PlayLA. Whitney t
 ambién trabajó como Facilitadora de Inclusión con Inclusion Matters by Sha
 ne’s Inspiration\, promoviendo el acceso y la inclusión para personas de t
 odas las capacidades.
DTSTART;TZID=America/Los_Angeles:20260228T100000
DTEND;TZID=America/Los_Angeles:20260228T113000
LOCATION:Zoom | Event also in Spanish - Evento también en español
SUMMARY:Social Security Disability Insurance (SSDI) and Supplemental Securi
 ty Income (SSI)
END:VEVENT
END:VCALENDAR
