BEGIN:VCALENDAR
VERSION:2.0
PRODID:-//www.dsala.org//NONSGML kigkonsult.se iCalcreator 2.30.10//
CALSCALE:GREGORIAN
METHOD:PUBLISH
UID:9cad6d98-a3ea-4022-9c4d-32f5807f268d
X-WR-CALDESC:<center>\n<p><span style='color:#3498db\;'><span style='font-s
 ize:24px\;'><strong>2026 DSALA&#39\;S MOMS NEED MOM&#39\;S CRUISE</strong>
 </span></span>\n</p><p><span style='color:#3498db\;'><span style='font-siz
 e:36px\;'><strong><u>DEPARTURE TIME UPDATE</u></strong></span></span><br /
 >\n<strong>Aboard the Carnival FIRENZE<br />\nLong Beach Cruise Terminal 2
 31 Windsor Way Long Beach\, CA 90802</strong><br />\n<strong>Cruise Dates:
  February 19th-March 23rd\, 2026</strong><br />\n\n<u>We have revised depa
 rture time for your cruise and now plan to sail from Long Beach at 4:00 PM
  (instead of 5:00 PM) pacific time.</u>\n\nThis is a <strong>4 DAY </stron
 g>Cruise - instead of our usual 3 day cruise... and includes a day on Cata
 lina Island!</p>\n\n<p>We&#39\;re so excited <strong>TO BE BACK</strong> a
 nd can&#39\;t wait to Connect and Re-Connect on this <strong>AMAZING </str
 ong>Cruise for all Caregivers of our Special kiddos.</p>\n\n<p style='text
 -align:left\;'><strong>Here&#39\;s How to Get on Board:</strong>\nWe are <
 strong>NOT </strong>working with a Travel Agent this year\, so...\nYou <st
 rong>MUST </strong>book <strong>DIRECTLY </strong>thru Carnival. (Carnival
 .com)\nFind our cruise ship/dates (CARNIVAL FIRENZE February 19th-March 23
 rd\, 2026 - 4 days)\nCall Carnival Group Bookings at <strong>(800) 327 578
 2 ext. 70005</strong> (M-F 9-8p EST)\nGive them our <strong>GROUP #BK29R9 
 </strong>so you'll be seated with our group for dinner AND be included in 
 all our group FUN!\n\nPlease email Silvia at srsignups@gmail.com to be add
 ed to the email list so you'll get all the info about activities and meet 
 ups once we get closer to our sail date!\n\n</p><p>We are excited to cruis
 e again with you all!</p></center>
X-WR-RELCALID:50829c6b8756582ee10b50ef0b714899
X-WR-TIMEZONE:America/Los_Angeles
BEGIN:VTIMEZONE
TZID:America/Los_Angeles
BEGIN:STANDARD
TZNAME:PST
DTSTART:20251102T020000
TZOFFSETFROM:-0700
TZOFFSETTO:-0800
RDATE:20261101T020000
END:STANDARD
BEGIN:DAYLIGHT
TZNAME:PDT
DTSTART:20250309T020000
TZOFFSETFROM:-0800
TZOFFSETTO:-0700
RDATE:20260308T020000
RDATE:20270314T020000
END:DAYLIGHT
END:VTIMEZONE
BEGIN:VEVENT
UID:09e6ae31-62b6-4088-b04e-46a06d684eae
DTSTAMP:20260419T141838Z
DESCRIPTION:<center>\n<p><span style='color:#3498db\;'><span style='font-si
 ze:24px\;'><strong>2026 DSALA&#39\;S MOMS NEED MOM&#39\;S CRUISE</strong><
 /span></span>\n</p><p><span style='color:#3498db\;'><span style='font-size
 :36px\;'><strong><u>DEPARTURE TIME UPDATE</u></strong></span></span><br />
 \n<strong>Aboard the Carnival FIRENZE<br />\nLong Beach Cruise Terminal 23
 1 Windsor Way Long Beach\, CA 90802</strong><br />\n<strong>Cruise Dates: 
 February 19th-March 23rd\, 2026</strong><br />\n\n<u>We have revised depar
 ture time for your cruise and now plan to sail from Long Beach at 4:00 PM 
 (instead of 5:00 PM) pacific time.</u>\n\nThis is a <strong>4 DAY </strong
 >Cruise - instead of our usual 3 day cruise... and includes a day on Catal
 ina Island!</p>\n\n<p>We&#39\;re so excited <strong>TO BE BACK</strong> an
 d can&#39\;t wait to Connect and Re-Connect on this <strong>AMAZING </stro
 ng>Cruise for all Caregivers of our Special kiddos.</p>\n\n<p style='text-
 align:left\;'><strong>Here&#39\;s How to Get on Board:</strong>\nWe are <s
 trong>NOT </strong>working with a Travel Agent this year\, so...\nYou <str
 ong>MUST </strong>book <strong>DIRECTLY </strong>thru Carnival. (Carnival.
 com)\nFind our cruise ship/dates (CARNIVAL FIRENZE February 19th-March 23r
 d\, 2026 - 4 days)\nCall Carnival Group Bookings at <strong>(800) 327 5782
  ext. 70005</strong> (M-F 9-8p EST)\nGive them our <strong>GROUP #BK29R9 <
 /strong>so you'll be seated with our group for dinner AND be included in a
 ll our group FUN!\n\nPlease email Silvia at srsignups@gmail.com to be adde
 d to the email list so you'll get all the info about activities and meet u
 ps once we get closer to our sail date!\n\n</p><p>We are excited to cruise
  again with you all!</p></center>
DTSTART;TZID=America/Los_Angeles:20260219T030000
DTEND;TZID=America/Los_Angeles:20260223T030001
LOCATION:Long Beach Cruise Terminal\, Terminal 231 Windsor Way\, Long Beach
 \, AL 90802 US
SUMMARY:DSALA Moms Need Moms Cruise
END:VEVENT
END:VCALENDAR
