BEGIN:VCALENDAR
VERSION:2.0
PRODID:-//www.dsala.org//NONSGML kigkonsult.se iCalcreator 2.30.10//
CALSCALE:GREGORIAN
METHOD:PUBLISH
UID:1760fbdc-6cdf-4282-afcb-b19bac5757b7
X-WR-CALDESC:Born to Act Players - Junior Class (New Location)\n\nStudents 
 will sing\, dance\, and act! They will develop better speech\, communicati
 on skills\, and self confidence.\n\n\n\nFor more information send an email
  to Mary Rings at BTAP@earthlink.net or call 818-776-9670. Cost is $15 per
  session.  For ages 5-17.	\n
X-WR-RELCALID:5fdb7c9a6b89d5a0fd2099019ab5de4d
X-WR-TIMEZONE:America/Los_Angeles
BEGIN:VTIMEZONE
TZID:America/Los_Angeles
BEGIN:STANDARD
TZNAME:PST
DTSTART:20251102T020000
TZOFFSETFROM:-0700
TZOFFSETTO:-0800
RDATE:20261101T020000
END:STANDARD
BEGIN:DAYLIGHT
TZNAME:PDT
DTSTART:20250309T020000
TZOFFSETFROM:-0800
TZOFFSETTO:-0700
RDATE:20260308T020000
RDATE:20270314T020000
END:DAYLIGHT
END:VTIMEZONE
BEGIN:VEVENT
UID:c2e548fd-4899-4c7e-831c-7fe0af534868
DTSTAMP:20260419T141909Z
DESCRIPTION:Born to Act Players - Junior Class (New Location)\n\nStudents w
 ill sing\, dance\, and act! They will develop better speech\, communicatio
 n skills\, and self confidence.\n\n\n\nFor more information send an email 
 to Mary Rings at BTAP@earthlink.net or call 818-776-9670. Cost is $15 per 
 session.  For ages 5-17.	\n
DTSTART;TZID=America/Los_Angeles:20260218T160000
DTEND;TZID=America/Los_Angeles:20260218T173000
LOCATION:Zoom [Contact Mary Rings for Link]
SUMMARY:Acting Classes BTAP Jr.
END:VEVENT
END:VCALENDAR
