BEGIN:VCALENDAR
VERSION:2.0
PRODID:-//www.dsala.org//NONSGML kigkonsult.se iCalcreator 2.30.10//
CALSCALE:GREGORIAN
METHOD:PUBLISH
UID:cae35fc5-6544-41cc-8bcb-0707de84c311
X-WR-CALDESC:Come and join us for our Friendship Party for a chance to conn
 ect with other young adults and build friendships. Join us for an afternoo
 n of arts & crafts\, dance\, and music! \n\nSign up today and be part of a
  vibrant community that celebrates diversity and fosters meaningful connec
 tions. We can't wait to meet you and share unforgettable moments together!
 \n\n<b>Text Ms. Karina or fill out the registration form for the location<
 /b>
X-WR-RELCALID:5b1d3a89b1be4a3636095b2fd2acd42b
X-WR-TIMEZONE:America/Los_Angeles
BEGIN:VTIMEZONE
TZID:America/Los_Angeles
BEGIN:STANDARD
TZNAME:PST
DTSTART:20251102T020000
TZOFFSETFROM:-0700
TZOFFSETTO:-0800
RDATE:20261101T020000
END:STANDARD
BEGIN:DAYLIGHT
TZNAME:PDT
DTSTART:20250309T020000
TZOFFSETFROM:-0800
TZOFFSETTO:-0700
RDATE:20260308T020000
RDATE:20270314T020000
END:DAYLIGHT
END:VTIMEZONE
BEGIN:VEVENT
UID:c3e2870a-dccd-4c02-990d-9c88c7cafbfb
DTSTAMP:20260419T144808Z
DESCRIPTION:Come and join us for our Friendship Party for a chance to conne
 ct with other young adults and build friendships. Join us for an afternoon
  of arts & crafts\, dance\, and music! \n\nSign up today and be part of a 
 vibrant community that celebrates diversity and fosters meaningful connect
 ions. We can't wait to meet you and share unforgettable moments together!
 \n\n<b>Text Ms. Karina or fill out the registration form for the location<
 /b>
DTSTART;TZID=America/Los_Angeles:20260215T140000
DTEND;TZID=America/Los_Angeles:20260215T160000
LOCATION:Text Ms. Karina or fill out the registration form for the location
SUMMARY:Young Adult Social Club's Friendship Party
END:VEVENT
END:VCALENDAR
