BEGIN:VCALENDAR
VERSION:2.0
PRODID:-//www.dsala.org//NONSGML kigkonsult.se iCalcreator 2.30.10//
CALSCALE:GREGORIAN
METHOD:PUBLISH
UID:4a294612-85ed-444a-bf9b-08a204296e51
X-WR-CALDESC:<center><b>¿Qué es Cultivar y Crecer?</b></center>\nEs un grup
 o de apoyo para padres y familiares de personas con necesidades especiales
 \, enfocado en apoyar a las familias de habla hispana. Con el objetivo de 
 brindar apoyo emocional\, conferencias y talleres educacionales que contri
 buyan al bienestar y al desarrollo de personas con necesidades especiales.
 \n\n<b>Alzheimer en Personas con Discapacidades Intelectuales y del Desarr
 ollo</b>\nPresentadores: Angélica Arias | Juan Saavedra\n<b>Viernes\, 13 D
 E FEBRERO \n6:30 PM - 8:30 PM \nEnlance de Zoom:\nhttps://csun.zoom.us/j/8
 3225901309?pwd=aKdk6ECf7DkxnclbGgqr93bdFNojoM.1 </b>\nAcompáñanos en una s
 esión informativa para entender mejor la enfermedad de Alzheimer en person
 as con discapacidades intelectuales y del desarrollo. Hablaremos sobre las
  señales y etapas de la demencia\, los retos emocionales y dificultades qu
 e enfrentan los cuidadores\, y los recursos y apoyos disponibles en la com
 unidad. Esta clase es un espacio para aprender\, compartir experiencias y 
 encontrar apoyo en la comunidad. No se necesita registrarse.\n\n**********
 *************************************************************\nParent supp
 ort group for Spanish-speaking families of individuals with special needs.
   \n\nPlease check the calendar of events for more information.
X-WR-RELCALID:2b9d7b1ee50dcc256e0202b911dba2b5
X-WR-TIMEZONE:America/Los_Angeles
BEGIN:VTIMEZONE
TZID:America/Los_Angeles
BEGIN:STANDARD
TZNAME:PST
DTSTART:20251102T020000
TZOFFSETFROM:-0700
TZOFFSETTO:-0800
RDATE:20261101T020000
END:STANDARD
BEGIN:DAYLIGHT
TZNAME:PDT
DTSTART:20250309T020000
TZOFFSETFROM:-0800
TZOFFSETTO:-0700
RDATE:20260308T020000
RDATE:20270314T020000
END:DAYLIGHT
END:VTIMEZONE
BEGIN:VEVENT
UID:1dbbd2a7-6898-47e0-b9f2-873d5afd1481
DTSTAMP:20260419T142226Z
DESCRIPTION:<center><b>¿Qué es Cultivar y Crecer?</b></center>\nEs un grupo
  de apoyo para padres y familiares de personas con necesidades especiales\
 , enfocado en apoyar a las familias de habla hispana. Con el objetivo de b
 rindar apoyo emocional\, conferencias y talleres educacionales que contrib
 uyan al bienestar y al desarrollo de personas con necesidades especiales.
 \n\n<b>Alzheimer en Personas con Discapacidades Intelectuales y del Desarr
 ollo</b>\nPresentadores: Angélica Arias | Juan Saavedra\n<b>Viernes\, 13 D
 E FEBRERO \n6:30 PM - 8:30 PM \nEnlance de Zoom:\nhttps://csun.zoom.us/j/8
 3225901309?pwd=aKdk6ECf7DkxnclbGgqr93bdFNojoM.1 </b>\nAcompáñanos en una s
 esión informativa para entender mejor la enfermedad de Alzheimer en person
 as con discapacidades intelectuales y del desarrollo. Hablaremos sobre las
  señales y etapas de la demencia\, los retos emocionales y dificultades qu
 e enfrentan los cuidadores\, y los recursos y apoyos disponibles en la com
 unidad. Esta clase es un espacio para aprender\, compartir experiencias y 
 encontrar apoyo en la comunidad. No se necesita registrarse.\n\n**********
 *************************************************************\nParent supp
 ort group for Spanish-speaking families of individuals with special needs.
   \n\nPlease check the calendar of events for more information.
DTSTART;TZID=America/Los_Angeles:20260213T183000
DTEND;TZID=America/Los_Angeles:20260213T203000
LOCATION:Zoom
SUMMARY:Cultivar & Crecer Parent Support Group [Zoom]
END:VEVENT
END:VCALENDAR
