BEGIN:VCALENDAR
VERSION:2.0
PRODID:-//www.dsala.org//NONSGML kigkonsult.se iCalcreator 2.30.10//
CALSCALE:GREGORIAN
METHOD:PUBLISH
UID:2bc858d3-3a46-4067-b41e-5ca7837c0489
X-WR-CALDESC:Caminando Juntos es un grupo de apoyo virtual para familiares 
 que cuidan a un adulto con síndrome de Down y demencia. Este espacio ofrec
 e la oportunidad de compartir experiencias\, aprender estrategias útiles y
  conectarse con otros cuidadores que entienden este camino. Las reuniones 
 se llevan a cabo el segundo y cuarto miércoles de cada mes\, de 5:15 a 6:1
 5 p. m.\, por Zoom.\n\n📍Ubicación: Virtual (Zoom)\n📅Fecha: Segundo y cuart
 o miércoles de cada mes\n⏰ Hora: 5:15–6:15 p. m.\n📞Contacto: Juan Saavedra
  – (213) 649-8227\n📧Correo electrónico: jsaavedra@alzla.org
X-WR-RELCALID:61c0e3af2716cc5aa24423245bd6b11a
X-WR-TIMEZONE:America/Los_Angeles
BEGIN:VTIMEZONE
TZID:America/Los_Angeles
BEGIN:STANDARD
TZNAME:PST
DTSTART:20251102T020000
TZOFFSETFROM:-0700
TZOFFSETTO:-0800
RDATE:20261101T020000
END:STANDARD
BEGIN:DAYLIGHT
TZNAME:PDT
DTSTART:20250309T020000
TZOFFSETFROM:-0800
TZOFFSETTO:-0700
RDATE:20260308T020000
RDATE:20270314T020000
END:DAYLIGHT
END:VTIMEZONE
BEGIN:VEVENT
UID:32cba8b9-0e0e-47d6-a806-f5d7debd81e2
DTSTAMP:20260419T161432Z
DESCRIPTION:Caminando Juntos es un grupo de apoyo virtual para familiares q
 ue cuidan a un adulto con síndrome de Down y demencia. Este espacio ofrece
  la oportunidad de compartir experiencias\, aprender estrategias útiles y 
 conectarse con otros cuidadores que entienden este camino. Las reuniones s
 e llevan a cabo el segundo y cuarto miércoles de cada mes\, de 5:15 a 6:15
  p. m.\, por Zoom.\n\n📍Ubicación: Virtual (Zoom)\n📅Fecha: Segundo y cuarto
  miércoles de cada mes\n⏰ Hora: 5:15–6:15 p. m.\n📞Contacto: Juan Saavedra 
 – (213) 649-8227\n📧Correo electrónico: jsaavedra@alzla.org
DTSTART;TZID=America/Los_Angeles:20260128T171500
DTEND;TZID=America/Los_Angeles:20260128T181500
LOCATION:Zoom
SUMMARY:Grupo Apoyo para cuidadores
END:VEVENT
END:VCALENDAR
