BEGIN:VCALENDAR
VERSION:2.0
PRODID:-//www.dsala.org//NONSGML kigkonsult.se iCalcreator 2.30.10//
CALSCALE:GREGORIAN
METHOD:PUBLISH
UID:114f5ae0-cc7a-49c6-b693-1221fcd85fb3
X-WR-CALDESC:<b></b><center>¿Qué es Cultivar y Crecer?</center>\nEs un grup
 o de apoyo para padres y familiares de personas con necesidades especiales
 \, enfocado en apoyar a las familias de habla hispana. Con el objetivo de 
 brindar apoyo emocional\, conferencias y talleres educacionales que contri
 buyan al bienestar y al desarrollo de personas con necesidades especiales.
 \n\nFavor de ver el calendario para más información.\n\n******************
 *****************************************************\nParent support grou
 p for Spanish-speaking families of individuals with special needs.  \n\nPl
 ease check the calendar of events for more information.
X-WR-RELCALID:f214d8df0fa032a7823115dbc9337635
X-WR-TIMEZONE:America/Los_Angeles
BEGIN:VTIMEZONE
TZID:America/Los_Angeles
BEGIN:STANDARD
TZNAME:PST
DTSTART:20251102T020000
TZOFFSETFROM:-0700
TZOFFSETTO:-0800
RDATE:20261101T020000
END:STANDARD
BEGIN:DAYLIGHT
TZNAME:PDT
DTSTART:20250309T020000
TZOFFSETFROM:-0800
TZOFFSETTO:-0700
RDATE:20260308T020000
RDATE:20270314T020000
END:DAYLIGHT
END:VTIMEZONE
BEGIN:VEVENT
UID:4fdf644f-4a21-4244-abb6-af3149e0ac7e
DTSTAMP:20260419T160906Z
DESCRIPTION:<b></b><center>¿Qué es Cultivar y Crecer?</center>\nEs un grupo
  de apoyo para padres y familiares de personas con necesidades especiales\
 , enfocado en apoyar a las familias de habla hispana. Con el objetivo de b
 rindar apoyo emocional\, conferencias y talleres educacionales que contrib
 uyan al bienestar y al desarrollo de personas con necesidades especiales.
 \n\nFavor de ver el calendario para más información.\n\n******************
 *****************************************************\nParent support grou
 p for Spanish-speaking families of individuals with special needs.  \n\nPl
 ease check the calendar of events for more information.
DTSTART;TZID=America/Los_Angeles:20260123T183000
DTEND;TZID=America/Los_Angeles:20260123T200000
LOCATION:Zoom
SUMMARY:Cultivar & Crecer Parent Support Group [Zoom] (Copy)
END:VEVENT
END:VCALENDAR
