BEGIN:VCALENDAR
VERSION:2.0
PRODID:-//www.dsala.org//NONSGML kigkonsult.se iCalcreator 2.30.10//
CALSCALE:GREGORIAN
METHOD:PUBLISH
UID:ae59e0e6-279a-4b03-84da-882e740c2835
X-WR-CALDESC:<b>TEACHING BOUNDARIES AND CONSENT TO YOUNG CHILDREN WITH DEVE
 LOPMENTAL DISABILITIES</b>\nBy making boundary skills part of your daily l
 ife with kids\, you are giving them tools for a lifetime of stronger\, hap
 pier relationships! Using Kidpower Boundary & Consent Principles\, adults 
 will learn skills to use and practice with kids\, including: \n- setting a
 nd respecting boundaries\n- stopping unwanted touch and attention\n- stayi
 ng in charge of their bodies\n- getting help for a safety problem\n- adapt
 ing skills and practices to children with differing abilities\n\n<b>About 
 Kidpower International</b>\nKidpower International is the nonprofit leader
  in personal safety education for all ages and abilities. More than 8 mill
 ion people have learned Kidpower skills to promote healthy relationships\,
  improve communication\, and protect adults\, teens\, and children from bu
 llying\, violence\, abuse\, and other harm since Kidpower's establishment 
 in 1989.
X-WR-RELCALID:973c6d8b35edbfb27403ff9928be5a26
X-WR-TIMEZONE:America/Los_Angeles
BEGIN:VTIMEZONE
TZID:America/Los_Angeles
BEGIN:STANDARD
TZNAME:PST
DTSTART:20251102T020000
TZOFFSETFROM:-0700
TZOFFSETTO:-0800
RDATE:20261101T020000
END:STANDARD
BEGIN:DAYLIGHT
TZNAME:PDT
DTSTART:20250309T020000
TZOFFSETFROM:-0800
TZOFFSETTO:-0700
RDATE:20260308T020000
RDATE:20270314T020000
END:DAYLIGHT
END:VTIMEZONE
BEGIN:VEVENT
UID:56a8c8a1-d9c3-4baf-ab3d-0c5cc8632714
DTSTAMP:20260419T155124Z
DESCRIPTION:<b>TEACHING BOUNDARIES AND CONSENT TO YOUNG CHILDREN WITH DEVEL
 OPMENTAL DISABILITIES</b>\nBy making boundary skills part of your daily li
 fe with kids\, you are giving them tools for a lifetime of stronger\, happ
 ier relationships! Using Kidpower Boundary & Consent Principles\, adults w
 ill learn skills to use and practice with kids\, including: \n- setting an
 d respecting boundaries\n- stopping unwanted touch and attention\n- stayin
 g in charge of their bodies\n- getting help for a safety problem\n- adapti
 ng skills and practices to children with differing abilities\n\n<b>About K
 idpower International</b>\nKidpower International is the nonprofit leader 
 in personal safety education for all ages and abilities. More than 8 milli
 on people have learned Kidpower skills to promote healthy relationships\, 
 improve communication\, and protect adults\, teens\, and children from bul
 lying\, violence\, abuse\, and other harm since Kidpower's establishment i
 n 1989.
DTSTART;TZID=America/Los_Angeles:20260117T100000
DTEND;TZID=America/Los_Angeles:20260117T110000
LOCATION:Zoom
SUMMARY:Teaching Boundaries & Consent to Young Children
END:VEVENT
END:VCALENDAR
