BEGIN:VCALENDAR
VERSION:2.0
PRODID:-//www.dsala.org//NONSGML kigkonsult.se iCalcreator 2.30.10//
CALSCALE:GREGORIAN
METHOD:PUBLISH
UID:71c3d402-b1bc-4c41-91a5-7e75465b89cc
X-WR-CALDESC:<center><b>33rd Annual DSALA Holiday Dance\nSaturday\, Decembe
 r 13\, 2025\n3:00 pm-6:00 pm\nThis event is for 18+</b></center>\n\nThe se
 ason of celebration is here\, so come on for a toast and a cheer. Dress yo
 ur best and come celebrate with the rest. There will be a light dinner\, p
 unch\, and cake. See old friends\, make new ones\, and have a wonderful ti
 me. You can bring a friend.\n\n<b></b><p style='color:#FF0000\;'>RSVP exte
 nded until December 10th. </p>Reservations must be made and paid for in ad
 vance. Cost $25 per person.\n<i>Note: This event is for adults only. Pick-
 up time is 6:00 p.m. NO LATE PICK-UP!</i>
X-WR-RELCALID:1d2bba746820b1b35237d4b6661cc8e9
X-WR-TIMEZONE:America/Los_Angeles
BEGIN:VTIMEZONE
TZID:America/Los_Angeles
BEGIN:STANDARD
TZNAME:PST
DTSTART:20251102T020000
TZOFFSETFROM:-0700
TZOFFSETTO:-0800
RDATE:20261101T020000
END:STANDARD
BEGIN:DAYLIGHT
TZNAME:PDT
DTSTART:20250309T020000
TZOFFSETFROM:-0800
TZOFFSETTO:-0700
RDATE:20260308T020000
RDATE:20270314T020000
END:DAYLIGHT
END:VTIMEZONE
BEGIN:VEVENT
UID:96dcdfa2-2842-43a9-bbe7-52a6098f9aad
DTSTAMP:20260419T171650Z
DESCRIPTION:<center><b>33rd Annual DSALA Holiday Dance\nSaturday\, December
  13\, 2025\n3:00 pm-6:00 pm\nThis event is for 18+</b></center>\n\nThe sea
 son of celebration is here\, so come on for a toast and a cheer. Dress you
 r best and come celebrate with the rest. There will be a light dinner\, pu
 nch\, and cake. See old friends\, make new ones\, and have a wonderful tim
 e. You can bring a friend.\n\n<b></b><p style='color:#FF0000\;'>RSVP exten
 ded until December 10th. </p>Reservations must be made and paid for in adv
 ance. Cost $25 per person.\n<i>Note: This event is for adults only. Pick-u
 p time is 6:00 p.m. NO LATE PICK-UP!</i>
DTSTART;TZID=America/Los_Angeles:20251213T150000
DTEND;TZID=America/Los_Angeles:20251213T180000
LOCATION:Granada Hills Community Church:  \, 11263 Balboa Blvd.\, Granada H
 ills\, CA 91344 US
SUMMARY:Holiday Dance
END:VEVENT
END:VCALENDAR
