BEGIN:VCALENDAR
VERSION:2.0
PRODID:-//www.dsala.org//NONSGML kigkonsult.se iCalcreator 2.30.10//
CALSCALE:GREGORIAN
METHOD:PUBLISH
UID:f418a405-dc83-4fc0-a298-09cc812645ea
X-WR-CALDESC:<center><b>Cookies with Santa</b></center>\n\n<center><b> ✨ Jo
 in DSALA for a heartwarming day of holiday magic! </b></center>\n\n<center
 >Enjoy delicious cookies\, capture festive photos with Santa\, and share i
 n laughter\, joy\, and togetherness. This special celebration brings famil
 ies and friends together to make sweet memories and spread the spirit of c
 ommunity this holiday season. 🍪💫/center>
X-WR-RELCALID:1f82c19d067837d19c5427885a47c755
X-WR-TIMEZONE:America/Los_Angeles
BEGIN:VTIMEZONE
TZID:America/Los_Angeles
BEGIN:STANDARD
TZNAME:PST
DTSTART:20251102T020000
TZOFFSETFROM:-0700
TZOFFSETTO:-0800
RDATE:20261101T020000
END:STANDARD
BEGIN:DAYLIGHT
TZNAME:PDT
DTSTART:20250309T020000
TZOFFSETFROM:-0800
TZOFFSETTO:-0700
RDATE:20260308T020000
RDATE:20270314T020000
END:DAYLIGHT
END:VTIMEZONE
BEGIN:VEVENT
UID:6707ae2c-32e8-4be3-83e6-5cefb11f1e51
DTSTAMP:20260419T171706Z
DESCRIPTION:<center><b>Cookies with Santa</b></center>\n\n<center><b> ✨ Joi
 n DSALA for a heartwarming day of holiday magic! </b></center>\n\n<center>
 Enjoy delicious cookies\, capture festive photos with Santa\, and share in
  laughter\, joy\, and togetherness. This special celebration brings famili
 es and friends together to make sweet memories and spread the spirit of co
 mmunity this holiday season. 🍪💫/center>
DTSTART;TZID=America/Los_Angeles:20251207T150000
DTEND;TZID=America/Los_Angeles:20251207T170000
LOCATION:El Redentor Lutheran Church 14445 Terra Bella St\, Panorama City\,
  CA 91402
SUMMARY:Cookies with Santa
END:VEVENT
END:VCALENDAR
