BEGIN:VCALENDAR
VERSION:2.0
PRODID:-//www.dsala.org//NONSGML kigkonsult.se iCalcreator 2.30.10//
CALSCALE:GREGORIAN
METHOD:PUBLISH
UID:1d23c5b1-307f-46c5-87bd-00978baba0ad
X-WR-CALDESC:Join ZOOZ Fitness and the Down Syndrome Association of Los Ang
 eles for a <b>6-week virtual training program </b>designed to build streng
 th\, balance\, flexibility\, and endurance. Led by <b>ZOOZ Fitness’s certi
 fied adaptive coaches</b>\, each class offers fun\, accessible workouts th
 at boost confidence\, support mobility\, and foster connection in a welcom
 ing community.\n<p style='font-size:30px\;'><b><a href='https://forms.mond
 ay.com/forms/6f6c00bf6f0861ef69bc022a97304981?r=use1' target='_blank' rel=
 'noreferrer noopener'>Register Here!</a></b></p>
X-WR-RELCALID:dd0f93bd8a7d8317dce639690dad627b
X-WR-TIMEZONE:America/Los_Angeles
BEGIN:VTIMEZONE
TZID:America/Los_Angeles
BEGIN:STANDARD
TZNAME:PST
DTSTART:20251102T020000
TZOFFSETFROM:-0700
TZOFFSETTO:-0800
RDATE:20261101T020000
END:STANDARD
BEGIN:DAYLIGHT
TZNAME:PDT
DTSTART:20250309T020000
TZOFFSETFROM:-0800
TZOFFSETTO:-0700
RDATE:20260308T020000
RDATE:20270314T020000
END:DAYLIGHT
END:VTIMEZONE
BEGIN:VEVENT
UID:c54fe4d0-3e94-4af4-b4dd-5f127f97932f
DTSTAMP:20260419T173852Z
DESCRIPTION:Join ZOOZ Fitness and the Down Syndrome Association of Los Ange
 les for a <b>6-week virtual training program </b>designed to build strengt
 h\, balance\, flexibility\, and endurance. Led by <b>ZOOZ Fitness’s certif
 ied adaptive coaches</b>\, each class offers fun\, accessible workouts tha
 t boost confidence\, support mobility\, and foster connection in a welcomi
 ng community.\n<p style='font-size:30px\;'><b><a href='https://forms.monda
 y.com/forms/6f6c00bf6f0861ef69bc022a97304981?r=use1' target='_blank' rel='
 noreferrer noopener'>Register Here!</a></b></p>
DTSTART;TZID=America/Los_Angeles:20251206T170000
DTEND;TZID=America/Los_Angeles:20251206T180000
LOCATION:
SUMMARY:Zooz Fitness - Stronger Together
END:VEVENT
END:VCALENDAR
