BEGIN:VCALENDAR
VERSION:2.0
PRODID:-//www.dsala.org//NONSGML kigkonsult.se iCalcreator 2.30.10//
CALSCALE:GREGORIAN
METHOD:PUBLISH
UID:68ae4f04-c0b7-4cfc-822b-c73341795c80
X-WR-CALDESC:Caregiver Support Group\nFor family caregivers of individuals 
 with Down syndrome and Alzheimer's disease\n\nMeetings are every first and
  third Wednesday of each month\n\n
X-WR-RELCALID:71a1f10a1f8732f99aa5a59e59b7e64f
X-WR-TIMEZONE:America/Los_Angeles
BEGIN:VTIMEZONE
TZID:America/Los_Angeles
BEGIN:STANDARD
TZNAME:PST
DTSTART:20251102T020000
TZOFFSETFROM:-0700
TZOFFSETTO:-0800
RDATE:20261101T020000
END:STANDARD
BEGIN:DAYLIGHT
TZNAME:PDT
DTSTART:20250309T020000
TZOFFSETFROM:-0800
TZOFFSETTO:-0700
RDATE:20260308T020000
RDATE:20270314T020000
END:DAYLIGHT
END:VTIMEZONE
BEGIN:VEVENT
UID:2c795270-6fdc-408b-9093-e93c72d03f53
DTSTAMP:20260419T184441Z
DESCRIPTION:Caregiver Support Group\nFor family caregivers of individuals w
 ith Down syndrome and Alzheimer's disease\n\nMeetings are every first and 
 third Wednesday of each month\n\n
DTSTART;TZID=America/Los_Angeles:20251119T160000
DTEND;TZID=America/Los_Angeles:20251119T170000
LOCATION:Via Zoom
SUMMARY:Caregiver Support Group
END:VEVENT
END:VCALENDAR
