BEGIN:VCALENDAR
VERSION:2.0
PRODID:-//www.dsala.org//NONSGML kigkonsult.se iCalcreator 2.30.10//
CALSCALE:GREGORIAN
METHOD:PUBLISH
UID:e077fd80-88b8-454b-9a14-cb9adeda8073
X-WR-CALDESC:<center><font size='10'>  </font><p style='color:#438D80\;'><b
 >31st Annual DSA Los Angeles T21 Walk</b></p><p></p></center> \n\n\nThe Do
 wn Syndrome Association of Los Angeles is excited to announce its <strong>
 31st Annual T21 Walk and Festival on Sunday\, November 9\, 2025\, at 10:00
  AM to 2:00 PM at Santa Anita Park Paddock Gardens in Arcadia\, Gate 3.</s
 trong> Join us in celebrating our loved ones with Down syndrome and contri
 buting to vital programs that benefit our local Down syndrome community.\n
 \nThis event unites the community each year to advocate for the value\, ac
 ceptance\, and inclusion of people with Down syndrome. We expect about 700
  participants to participate in this celebration of unity and awareness. D
 SALA envisions a world in which all people with Down syndrome have the opp
 ortunity to become valued members of welcoming communities.\n\n<center><fo
 nt size='10'>  </font><p style='color:#438D80\;'><b>WE NEED YOUR SUPPORT</
 b></p><p></p></center> \n\nThe Down Syndrome Association of Los Angeles (D
 SALA) receives no funding from the state or federal government and is 100%
  donor-funded. The programs and events of the DSALA are free or low-cost t
 o children and adults with Down syndrome and their siblings. Each year\, t
 he DSALA must raise almost $250\,000 to provide these vital services. The 
 Walk is one of our largest fundraising events and is responsible for raisi
 ng 30% of the funds needed to operate each year. These funds support our l
 ocal efforts and cover the cost of the event. \n\nFor additional assistanc
 e\, please email info@dsala.org or call 818-786-0001
X-WR-RELCALID:9d350e8152877d86bbafa899782f72e7
X-WR-TIMEZONE:America/Los_Angeles
BEGIN:VTIMEZONE
TZID:America/Los_Angeles
BEGIN:STANDARD
TZNAME:PST
DTSTART:20251102T020000
TZOFFSETFROM:-0700
TZOFFSETTO:-0800
RDATE:20261101T020000
END:STANDARD
BEGIN:DAYLIGHT
TZNAME:PDT
DTSTART:20250309T020000
TZOFFSETFROM:-0800
TZOFFSETTO:-0700
RDATE:20260308T020000
RDATE:20270314T020000
END:DAYLIGHT
END:VTIMEZONE
BEGIN:VEVENT
UID:330f2a63-30e8-473a-97cd-464adfd3ea81
DTSTAMP:20260419T184344Z
DESCRIPTION:<center><font size='10'>  </font><p style='color:#438D80\;'><b>
 31st Annual DSA Los Angeles T21 Walk</b></p><p></p></center> \n\n\nThe Dow
 n Syndrome Association of Los Angeles is excited to announce its <strong>3
 1st Annual T21 Walk and Festival on Sunday\, November 9\, 2025\, at 10:00 
 AM to 2:00 PM at Santa Anita Park Paddock Gardens in Arcadia\, Gate 3.</st
 rong> Join us in celebrating our loved ones with Down syndrome and contrib
 uting to vital programs that benefit our local Down syndrome community.\n
 \nThis event unites the community each year to advocate for the value\, ac
 ceptance\, and inclusion of people with Down syndrome. We expect about 700
  participants to participate in this celebration of unity and awareness. D
 SALA envisions a world in which all people with Down syndrome have the opp
 ortunity to become valued members of welcoming communities.\n\n<center><fo
 nt size='10'>  </font><p style='color:#438D80\;'><b>WE NEED YOUR SUPPORT</
 b></p><p></p></center> \n\nThe Down Syndrome Association of Los Angeles (D
 SALA) receives no funding from the state or federal government and is 100%
  donor-funded. The programs and events of the DSALA are free or low-cost t
 o children and adults with Down syndrome and their siblings. Each year\, t
 he DSALA must raise almost $250\,000 to provide these vital services. The 
 Walk is one of our largest fundraising events and is responsible for raisi
 ng 30% of the funds needed to operate each year. These funds support our l
 ocal efforts and cover the cost of the event. \n\nFor additional assistanc
 e\, please email info@dsala.org or call 818-786-0001
DTSTART;TZID=America/Los_Angeles:20251109T100000
DTEND;TZID=America/Los_Angeles:20251109T130000
LOCATION:Santa Anita Park Paddock Gardens - 285 W Huntington Dr\, Arcadia\,
  CA 91007
SUMMARY:DSALA T21 Annual Walk
END:VEVENT
END:VCALENDAR
