BEGIN:VCALENDAR
VERSION:2.0
PRODID:-//www.dsala.org//NONSGML kigkonsult.se iCalcreator 2.30.10//
CALSCALE:GREGORIAN
METHOD:PUBLISH
UID:486d9b19-975a-460f-aabb-1718c8f36a3b
X-WR-CALDESC:<b>5th Annual All-Inclusive Zumba Halloween Fundraiser Event</
 b>\n\n🎃Join us for a morning of dance\, fun\, and community!\nCelebrate Ha
 lloween with Zumba\, raise awareness\, and support the Down Syndrome Assoc
 iation of Los Angeles.\n\n🧡Free Event — Donations Welcome\nAll proceeds go
  directly to DSALA programs and services.\n\n🕺Costumes Encouraged!\nCome d
 ressed in your favorite Halloween costume and dance for a cause!
X-WR-RELCALID:44bf9ac6699f300d633add971dcc840e
X-WR-TIMEZONE:America/Los_Angeles
BEGIN:VTIMEZONE
TZID:America/Los_Angeles
BEGIN:STANDARD
TZNAME:PST
DTSTART:20241103T020000
TZOFFSETFROM:-0700
TZOFFSETTO:-0800
RDATE:20251102T020000
RDATE:20261101T020000
END:STANDARD
BEGIN:DAYLIGHT
TZNAME:PDT
DTSTART:20250309T020000
TZOFFSETFROM:-0800
TZOFFSETTO:-0700
RDATE:20260308T020000
RDATE:20270314T020000
END:DAYLIGHT
END:VTIMEZONE
BEGIN:VEVENT
UID:e09e0381-109b-4757-a169-36545e6003fd
DTSTAMP:20260419T202004Z
DESCRIPTION:<b>5th Annual All-Inclusive Zumba Halloween Fundraiser Event</b
 >\n\n🎃Join us for a morning of dance\, fun\, and community!\nCelebrate Hal
 loween with Zumba\, raise awareness\, and support the Down Syndrome Associ
 ation of Los Angeles.\n\n🧡Free Event — Donations Welcome\nAll proceeds go 
 directly to DSALA programs and services.\n\n🕺Costumes Encouraged!\nCome dr
 essed in your favorite Halloween costume and dance for a cause!
DTSTART;TZID=America/Los_Angeles:20251026T100000
DTEND;TZID=America/Los_Angeles:20251026T120000
LOCATION:208 Park Ave\, San Fernando\, AL 91340 US
SUMMARY:5th All-Inclusive Zumba Fundraiser Event
END:VEVENT
END:VCALENDAR
