BEGIN:VCALENDAR
VERSION:2.0
PRODID:-//www.dsala.org//NONSGML kigkonsult.se iCalcreator 2.30.10//
CALSCALE:GREGORIAN
METHOD:PUBLISH
UID:e07842e5-bbdd-4d34-9014-6818384d9619
X-WR-CALDESC:<b></b><center>¿Qué es Cultivar y Crecer?</center>\nEs un grup
 o de apoyo para padres y familiares de personas con necesidades especiales
  que se enfoca en apoyear a las familias de habla hispana. Con el objetivo
  de brindar apoyo emocional\, conferencias y talleres educacionales que ap
 oyen el bienestar y desarollo de personas con necesidades especiales.\n\nF
 avor de ver el calendario para más información.\n\n***********************
 ************************************************\nParent support group for
  Spanish-speaking families of individuals with special needs.  \n\nPlease 
 check the calendar of events for more information.
X-WR-RELCALID:922c1942f219bf50b1c2287a25e1ff67
X-WR-TIMEZONE:America/Los_Angeles
BEGIN:VTIMEZONE
TZID:America/Los_Angeles
BEGIN:STANDARD
TZNAME:PST
DTSTART:20241103T020000
TZOFFSETFROM:-0700
TZOFFSETTO:-0800
RDATE:20251102T020000
RDATE:20261101T020000
END:STANDARD
BEGIN:DAYLIGHT
TZNAME:PDT
DTSTART:20250309T020000
TZOFFSETFROM:-0800
TZOFFSETTO:-0700
RDATE:20260308T020000
RDATE:20270314T020000
END:DAYLIGHT
END:VTIMEZONE
BEGIN:VEVENT
UID:c7c1abea-1fa8-4817-be5e-2d9077b796aa
DTSTAMP:20260419T202649Z
DESCRIPTION:<b></b><center>¿Qué es Cultivar y Crecer?</center>\nEs un grupo
  de apoyo para padres y familiares de personas con necesidades especiales 
 que se enfoca en apoyear a las familias de habla hispana. Con el objetivo 
 de brindar apoyo emocional\, conferencias y talleres educacionales que apo
 yen el bienestar y desarollo de personas con necesidades especiales.\n\nFa
 vor de ver el calendario para más información.\n\n************************
 ***********************************************\nParent support group for 
 Spanish-speaking families of individuals with special needs.  \n\nPlease c
 heck the calendar of events for more information.
DTSTART;TZID=America/Los_Angeles:20251017T183000
DTEND;TZID=America/Los_Angeles:20251017T200000
LOCATION:North Los Angeles County Regional Center 9200 Oakdale Ave\, Chatsw
 orth\, CA 91311
SUMMARY:Cultivar & Crecer Parent Support Group Chatsworth
END:VEVENT
END:VCALENDAR
