BEGIN:VCALENDAR
VERSION:2.0
PRODID:-//www.dsala.org//NONSGML kigkonsult.se iCalcreator 2.30.10//
CALSCALE:GREGORIAN
METHOD:PUBLISH
UID:8b62fde2-869e-48b3-bcfe-12afc683dcd7
X-WR-CALDESC:<b>Zoom Saturday Seminar\nDate: Saturday\, September 20\, 2025
 \nTime: 10 AM - 11:00 AM</b>\n\n<b>Breastfeeding Babies with Down Syndrome
 </b>\nJoin Jill Rabin\, SLP\, IBCLC and Rachel Murphy\, RN\, IBCLC for a d
 ynamic webinar about breastfeeding babies with Down syndrome. Topics inclu
 de why breastfeeding is uniquely important for babies with Down syndrome a
 nd how to manage low tone\, excessive sleepiness\, medical complexities\, 
 establishing supply\, and identifying and tapping into resources prenatall
 y. \n\n<b>Presenter:</b>\n<b>Jill Rabin</b>\, M.S. CCC-SLP/L IBCLC special
 izes in working with infants to 3-year-old children with Down syndrome. Sh
 e has lectured nationally and internationally on breastfeeding and adapted
  baby-led weaning for young babies with Down syndrome. She is a consultant
  for Julia's Way through the MDSC National Parents First Call Center and a
  co-moderator of the monthly breastfeeding support group.\n\n<b>Rachel Mur
 phy</b>\, RN\, IBCLC is the mother of a child with Down syndrome who was a
 ble to breastfeed after several obstacles\, including duodenal atresia. Th
 is inspired her to help other babies with Down syndrome to breastfeed. She
  is a Registered Nurse and an IBCLC. She is a consultant for Julia's Way t
 hrough the MDSC National Parents First Call Center and a co-moderator of t
 he monthly breastfeeding support group.
X-WR-RELCALID:83ee48a2e6a431c6987fbf61867d0864
X-WR-TIMEZONE:America/Los_Angeles
BEGIN:VTIMEZONE
TZID:America/Los_Angeles
BEGIN:STANDARD
TZNAME:PST
DTSTART:20241103T020000
TZOFFSETFROM:-0700
TZOFFSETTO:-0800
RDATE:20251102T020000
RDATE:20261101T020000
END:STANDARD
BEGIN:DAYLIGHT
TZNAME:PDT
DTSTART:20250309T020000
TZOFFSETFROM:-0800
TZOFFSETTO:-0700
RDATE:20260308T020000
RDATE:20270314T020000
END:DAYLIGHT
END:VTIMEZONE
BEGIN:VEVENT
UID:580dedf3-7d92-4c77-a8a5-fc9510996925
DTSTAMP:20260419T214449Z
DESCRIPTION:<b>Zoom Saturday Seminar\nDate: Saturday\, September 20\, 2025
 \nTime: 10 AM - 11:00 AM</b>\n\n<b>Breastfeeding Babies with Down Syndrome
 </b>\nJoin Jill Rabin\, SLP\, IBCLC and Rachel Murphy\, RN\, IBCLC for a d
 ynamic webinar about breastfeeding babies with Down syndrome. Topics inclu
 de why breastfeeding is uniquely important for babies with Down syndrome a
 nd how to manage low tone\, excessive sleepiness\, medical complexities\, 
 establishing supply\, and identifying and tapping into resources prenatall
 y. \n\n<b>Presenter:</b>\n<b>Jill Rabin</b>\, M.S. CCC-SLP/L IBCLC special
 izes in working with infants to 3-year-old children with Down syndrome. Sh
 e has lectured nationally and internationally on breastfeeding and adapted
  baby-led weaning for young babies with Down syndrome. She is a consultant
  for Julia's Way through the MDSC National Parents First Call Center and a
  co-moderator of the monthly breastfeeding support group.\n\n<b>Rachel Mur
 phy</b>\, RN\, IBCLC is the mother of a child with Down syndrome who was a
 ble to breastfeed after several obstacles\, including duodenal atresia. Th
 is inspired her to help other babies with Down syndrome to breastfeed. She
  is a Registered Nurse and an IBCLC. She is a consultant for Julia's Way t
 hrough the MDSC National Parents First Call Center and a co-moderator of t
 he monthly breastfeeding support group.
DTSTART;TZID=America/Los_Angeles:20250920T100000
DTEND;TZID=America/Los_Angeles:20250920T110000
LOCATION:Zoom
SUMMARY:Breastfeeding Babies with Down Syndrome
END:VEVENT
END:VCALENDAR
