BEGIN:VCALENDAR
VERSION:2.0
PRODID:-//www.dsala.org//NONSGML kigkonsult.se iCalcreator 2.30.10//
CALSCALE:GREGORIAN
METHOD:PUBLISH
UID:2471c23e-6f32-44c0-89bf-2b47f7d8640b
X-WR-CALDESC:<b></b><center>¿Qué es Cultivar y Crecer?</center>\nEs un grup
 o de apoyo para padres y familiares de personas con necesidades especiales
  que se enfoca en apoyear a las familias de habla hispana. Con el objetivo
  de brindar apoyo emocional\, conferencias y talleres educacionales que ap
 oyen el bienestar y desarollo de personas con necesidades especiales.\n\nF
 avor de ver el calendario para más información.\n\n***********************
 ************************************************\nParent support group for
  Spanish-speaking families of individuals with special needs.  \n\n<b>TOMA
  LAS RIENDAS DE TU SALUD MENTAL</b>\nEstrategias para cuidadores para prot
 eger su propio bienestar.\n\n<b>Viernes 19 de septiembre 7-8:30pm por Zoom
 </b>\n\nEnlace de Zoom para participar en el taller:\n<a href='https://us0
 2web.zoom.us/j/84212168596?pwd=DEDuCrWza6kcB4bBJ0OjTkSzu6bCpL.1'>Haz clic 
 aquí</a>\nhttps://us02web.zoom.us/j/84212168596?pwd=DEDuCrWza6kcB4bBJ0OjTk
 Szu6bCpL.1 \n\nMeeting ID: 842 1216 8596\nPasscode: 926905\n
X-WR-RELCALID:a2207ca428208ec94f490672b883df26
X-WR-TIMEZONE:America/Los_Angeles
BEGIN:VTIMEZONE
TZID:America/Los_Angeles
BEGIN:STANDARD
TZNAME:PST
DTSTART:20241103T020000
TZOFFSETFROM:-0700
TZOFFSETTO:-0800
RDATE:20251102T020000
RDATE:20261101T020000
END:STANDARD
BEGIN:DAYLIGHT
TZNAME:PDT
DTSTART:20250309T020000
TZOFFSETFROM:-0800
TZOFFSETTO:-0700
RDATE:20260308T020000
RDATE:20270314T020000
END:DAYLIGHT
END:VTIMEZONE
BEGIN:VEVENT
UID:a55c5dc9-75e0-4f2e-8322-f0e156f29b7a
DTSTAMP:20260419T220253Z
DESCRIPTION:<b></b><center>¿Qué es Cultivar y Crecer?</center>\nEs un grupo
  de apoyo para padres y familiares de personas con necesidades especiales 
 que se enfoca en apoyear a las familias de habla hispana. Con el objetivo 
 de brindar apoyo emocional\, conferencias y talleres educacionales que apo
 yen el bienestar y desarollo de personas con necesidades especiales.\n\nFa
 vor de ver el calendario para más información.\n\n************************
 ***********************************************\nParent support group for 
 Spanish-speaking families of individuals with special needs.  \n\n<b>TOMA 
 LAS RIENDAS DE TU SALUD MENTAL</b>\nEstrategias para cuidadores para prote
 ger su propio bienestar.\n\n<b>Viernes 19 de septiembre 7-8:30pm por Zoom<
 /b>\n\nEnlace de Zoom para participar en el taller:\n<a href='https://us02
 web.zoom.us/j/84212168596?pwd=DEDuCrWza6kcB4bBJ0OjTkSzu6bCpL.1'>Haz clic a
 quí</a>\nhttps://us02web.zoom.us/j/84212168596?pwd=DEDuCrWza6kcB4bBJ0OjTkS
 zu6bCpL.1 \n\nMeeting ID: 842 1216 8596\nPasscode: 926905\n
DTSTART;TZID=America/Los_Angeles:20250919T183000
DTEND;TZID=America/Los_Angeles:20250919T200000
LOCATION:North Los Angeles County Regional Center 9200 Oakdale Ave\, Chatsw
 orth\, CA 91311
SUMMARY:Cultivar & Crecer Parent Support Group Chatsworth
END:VEVENT
END:VCALENDAR
