BEGIN:VCALENDAR
VERSION:2.0
PRODID:-//www.dsala.org//NONSGML kigkonsult.se iCalcreator 2.30.10//
CALSCALE:GREGORIAN
METHOD:PUBLISH
UID:d4ea7f5c-81b2-4d46-b9a8-b7a08a1cb9c8
X-WR-CALDESC:Born to Act Players - Junior Class\n\nStudents will sing\, dan
 ce\, and act! \n\nThey will develop better speech\, communication skills\,
  and self confidence !\n\n\nCost is $15 per session. (Ages 5-17)	\n\n
X-WR-RELCALID:3e43939ad6fc24111bdbabb1ee945663
X-WR-TIMEZONE:America/Los_Angeles
BEGIN:VTIMEZONE
TZID:America/Los_Angeles
BEGIN:STANDARD
TZNAME:PST
DTSTART:20241103T020000
TZOFFSETFROM:-0700
TZOFFSETTO:-0800
RDATE:20251102T020000
RDATE:20261101T020000
END:STANDARD
BEGIN:DAYLIGHT
TZNAME:PDT
DTSTART:20250309T020000
TZOFFSETFROM:-0800
TZOFFSETTO:-0700
RDATE:20260308T020000
RDATE:20270314T020000
END:DAYLIGHT
END:VTIMEZONE
BEGIN:VEVENT
UID:487d6ece-2fe4-486d-9702-b69288257c09
DTSTAMP:20260419T215614Z
DESCRIPTION:Born to Act Players - Junior Class\n\nStudents will sing\, danc
 e\, and act! \n\nThey will develop better speech\, communication skills\, 
 and self confidence !\n\n\nCost is $15 per session. (Ages 5-17)	\n\n
DTSTART;TZID=America/Los_Angeles:20250918T160000
DTEND;TZID=America/Los_Angeles:20250918T173000
LOCATION:First Christian Church of North Hollywood  4390 Colfax Ave\, Studi
 o City\, CA 91604
SUMMARY:Acting Classes BTAP Jr.
END:VEVENT
END:VCALENDAR
