BEGIN:VCALENDAR
VERSION:2.0
PRODID:-//www.dsala.org//NONSGML kigkonsult.se iCalcreator 2.30.10//
CALSCALE:GREGORIAN
METHOD:PUBLISH
UID:fb1abe1b-d0f0-4d5d-a3fd-1e202ca23163
X-WR-CALDESC:<b>SUPPORTING INVOLVED BROTHERS AND SISTERS</b>\n\nSIBS is a g
 roup that aims to support and give resources to adult siblings of people w
 ith Down syndrome. We hope to create a safe space for siblings to share th
 eir experiences\, concerns\, and feelings regarding their role as siblings
  of an individual with Down syndrome.\n\n<b>Meetings occur on the second S
 unday of every month.</b>\n\nTo register and receive zoom info click <a hr
 ef='https://www.dsala.org/what-we-do/family/sibling-group.html'><b>HERE</b
 ></a>\n\nFor inquiries contact <b>dsalasibs@gmail.com</b>
X-WR-RELCALID:d6db4add048f4a442bc143f4e8aad03f
X-WR-TIMEZONE:America/Los_Angeles
BEGIN:VTIMEZONE
TZID:America/Los_Angeles
BEGIN:STANDARD
TZNAME:PST
DTSTART:20241103T020000
TZOFFSETFROM:-0700
TZOFFSETTO:-0800
RDATE:20251102T020000
RDATE:20261101T020000
END:STANDARD
BEGIN:DAYLIGHT
TZNAME:PDT
DTSTART:20250309T020000
TZOFFSETFROM:-0800
TZOFFSETTO:-0700
RDATE:20260308T020000
RDATE:20270314T020000
END:DAYLIGHT
END:VTIMEZONE
BEGIN:VEVENT
UID:4c6f0d57-a2bb-4523-b210-8cb927b0d5d7
DTSTAMP:20260419T220252Z
DESCRIPTION:<b>SUPPORTING INVOLVED BROTHERS AND SISTERS</b>\n\nSIBS is a gr
 oup that aims to support and give resources to adult siblings of people wi
 th Down syndrome. We hope to create a safe space for siblings to share the
 ir experiences\, concerns\, and feelings regarding their role as siblings 
 of an individual with Down syndrome.\n\n<b>Meetings occur on the second Su
 nday of every month.</b>\n\nTo register and receive zoom info click <a hre
 f='https://www.dsala.org/what-we-do/family/sibling-group.html'><b>HERE</b>
 </a>\n\nFor inquiries contact <b>dsalasibs@gmail.com</b>
DTSTART;TZID=America/Los_Angeles:20250914T100000
DTEND;TZID=America/Los_Angeles:20250914T110000
LOCATION:Via Zoom
SUMMARY:Adult Siblings of Individuals with Down Syndrome Support Group (S.I
 .B.S.)
END:VEVENT
END:VCALENDAR
