BEGIN:VCALENDAR
VERSION:2.0
PRODID:-//www.dsala.org//NONSGML kigkonsult.se iCalcreator 2.30.10//
CALSCALE:GREGORIAN
METHOD:PUBLISH
UID:d09206fa-8209-40ab-9038-2cef144c4eb1
X-WR-CALDESC:<center><b>Our Own Family Camp</b>\nThe Annual Our Own Family 
 Camp at YMCA Camp Oakes near Big Bear over Labor Day weekend is exclusivel
 y designed for families of individuals with Down syndrome. This is a wonde
 rful way to have an inexpensive\, memory-making vacation with our families
  in a supportive\, non-judgmental environment. </center>\n\n<b>Campers par
 ticipate in:</b>\n•	Canoes\n•	Swimming\n•	Campfire\n•	Hiking\n•	Arts & Crafts\n
 •	Riflery\n•	Archery\n•	Ropes\n•	Rock Wall Climbing\n•	Volleyball	\n•	Zip Line\n
 \nWe are SO excited to announce that registration is open for Our Own Fami
 ly Camp over Labor Day weekend!\n\nIt's going to be a whole lot of fun\, a
 nd we cannot wait for you to join us. The pricing structure has changed an
 d prices will be as follows:\n\nAges 0-3: Free\nAges 4-17: $120\nAges 18+:
  $155\nRemember\, your family member with Down syndrome is free!\nADD YOUR
  CAMPER WITH DOWN SYNDROME UNDER THE 3-YEAR-OLD OPTION SO YOU WON'T BE CHA
 RGED.\n\nRegistration ends on Aug 31\, 2025\nOnline registration ends on A
 ug 25\, 2025\n
X-WR-RELCALID:84c5877c539fc676686a237098acbccb
X-WR-TIMEZONE:America/Los_Angeles
BEGIN:VTIMEZONE
TZID:America/Los_Angeles
BEGIN:STANDARD
TZNAME:PST
DTSTART:20241103T020000
TZOFFSETFROM:-0700
TZOFFSETTO:-0800
RDATE:20251102T020000
RDATE:20261101T020000
END:STANDARD
BEGIN:DAYLIGHT
TZNAME:PDT
DTSTART:20250309T020000
TZOFFSETFROM:-0800
TZOFFSETTO:-0700
RDATE:20260308T020000
END:DAYLIGHT
END:VTIMEZONE
BEGIN:VEVENT
UID:681c9029-6ed2-4a5f-9af8-40285b5fe409
DTSTAMP:20260419T232532Z
DESCRIPTION:<center><b>Our Own Family Camp</b>\nThe Annual Our Own Family C
 amp at YMCA Camp Oakes near Big Bear over Labor Day weekend is exclusively
  designed for families of individuals with Down syndrome. This is a wonder
 ful way to have an inexpensive\, memory-making vacation with our families 
 in a supportive\, non-judgmental environment. </center>\n\n<b>Campers part
 icipate in:</b>\n•	Canoes\n•	Swimming\n•	Campfire\n•	Hiking\n•	Arts & Crafts\n•
 	Riflery\n•	Archery\n•	Ropes\n•	Rock Wall Climbing\n•	Volleyball	\n•	Zip Line\n\n
 We are SO excited to announce that registration is open for Our Own Family
  Camp over Labor Day weekend!\n\nIt's going to be a whole lot of fun\, and
  we cannot wait for you to join us. The pricing structure has changed and 
 prices will be as follows:\n\nAges 0-3: Free\nAges 4-17: $120\nAges 18+: $
 155\nRemember\, your family member with Down syndrome is free!\nADD YOUR C
 AMPER WITH DOWN SYNDROME UNDER THE 3-YEAR-OLD OPTION SO YOU WON'T BE CHARG
 ED.\n\nRegistration ends on Aug 31\, 2025\nOnline registration ends on Aug
  25\, 2025\n
DTSTART;TZID=America/Los_Angeles:20250829T160000
DTEND;TZID=America/Los_Angeles:20250901T100000
LOCATION:Big Bear
SUMMARY:Our Own Family Camp
END:VEVENT
END:VCALENDAR
