BEGIN:VCALENDAR
VERSION:2.0
PRODID:-//www.dsala.org//NONSGML kigkonsult.se iCalcreator 2.30.10//
CALSCALE:GREGORIAN
METHOD:PUBLISH
UID:cf201680-f4da-4bd8-b966-994c7ec4ac0c
X-WR-CALDESC:DSALA Parent Support Group\n💙****New! DSALA Parent Support Gro
 up for Parents of Young Children 💛nDSALA is excited to introduce a new sup
 port group specifically for parents of young children with Down syndrome.
 \n\nThis group offers a welcoming space to connect with other parents\, sh
 are experiences\, ask questions\, and find community support. Whether you'
 re navigating a recent diagnosis or simply looking to connect\, you’re not
  alone.
X-WR-RELCALID:5bec8d07f7bd408351dbd29a18c07adf
X-WR-TIMEZONE:America/Los_Angeles
BEGIN:VTIMEZONE
TZID:America/Los_Angeles
BEGIN:STANDARD
TZNAME:PST
DTSTART:20241103T020000
TZOFFSETFROM:-0700
TZOFFSETTO:-0800
RDATE:20251102T020000
RDATE:20261101T020000
END:STANDARD
BEGIN:DAYLIGHT
TZNAME:PDT
DTSTART:20250309T020000
TZOFFSETFROM:-0800
TZOFFSETTO:-0700
RDATE:20260308T020000
END:DAYLIGHT
END:VTIMEZONE
BEGIN:VEVENT
UID:618fbc44-8ec8-409f-97ea-92700d0da801
DTSTAMP:20260419T230952Z
DESCRIPTION:DSALA Parent Support Group\n💙****New! DSALA Parent Support Grou
 p for Parents of Young Children 💛nDSALA is excited to introduce a new supp
 ort group specifically for parents of young children with Down syndrome.\n
 \nThis group offers a welcoming space to connect with other parents\, shar
 e experiences\, ask questions\, and find community support. Whether you're
  navigating a recent diagnosis or simply looking to connect\, you’re not a
 lone.
DTSTART;TZID=America/Los_Angeles:20250820T183000
DTEND;TZID=America/Los_Angeles:20250820T200000
LOCATION:Granada Hills Community Church:  11263 Balboa Blvd Granada Hills\,
  CA  91344
SUMMARY:DSALA Parent Support Group
END:VEVENT
END:VCALENDAR
