BEGIN:VCALENDAR
VERSION:2.0
PRODID:-//www.dsala.org//NONSGML kigkonsult.se iCalcreator 2.30.10//
CALSCALE:GREGORIAN
METHOD:PUBLISH
UID:87779daf-fef6-45b1-9eab-42a6fcf26b0a
X-WR-CALDESC:<b>Zoom Saturday Seminar\nDate: Saturday\, August 16\, 2025\nT
 ime: 10 AM - 11:00 AM</b>\n\n<b>Handwriting Without Tears</b>\nWith <b>Lea
 rning Without Tears</b>\, parents and educators gain simple and effective 
 tools that are developmentally appropriate and use multisensory manipulati
 ves to foster early literacy and handwriting skills\, from readiness to ha
 ndwriting and more.  We ensure every child’s path to learning is built on 
 a strong foundation based on joyful learning.\n\n<b>Suzanne Asherson\, OTD
 \, MA\, OTR/L</b>\nDr. Suzanne Asherson is a pediatric occupational therap
 ist with a Clinical Doctorate and Master's from the University of Southern
  California.  She co-wrote the chapter “Evidence-Based Practice and Accoun
 tability” in the Guidelines for Occupational Therapy and Physical Therapy 
 in the California Public Schools published by the California Department of
  Education and is SIPT certified (Sensory Integration and Praxis Tests).  
 Suzanne has been prominently featured in the New York Times\, Los Angeles 
 Times and appears in on-air news segments around the country regarding han
 dwriting in today’s world.  Suzanne spent almost a decade working at the B
 everly Hills Unified School District practicing as a school based OT\, has
  been a National Presenter for Learning Without Tears since 2008 and curre
 ntly has a private pediatric OT practice in Beverly Hills and the surround
 ing neighborhoods.
X-WR-RELCALID:70a865be29fcd3184b69da81312d82a3
X-WR-TIMEZONE:America/Los_Angeles
BEGIN:VTIMEZONE
TZID:America/Los_Angeles
BEGIN:STANDARD
TZNAME:PST
DTSTART:20241103T020000
TZOFFSETFROM:-0700
TZOFFSETTO:-0800
RDATE:20251102T020000
RDATE:20261101T020000
END:STANDARD
BEGIN:DAYLIGHT
TZNAME:PDT
DTSTART:20250309T020000
TZOFFSETFROM:-0800
TZOFFSETTO:-0700
RDATE:20260308T020000
END:DAYLIGHT
END:VTIMEZONE
BEGIN:VEVENT
UID:b748c5a2-64f8-46d0-b8cb-7020fe83440d
DTSTAMP:20260419T230951Z
DESCRIPTION:<b>Zoom Saturday Seminar\nDate: Saturday\, August 16\, 2025\nTi
 me: 10 AM - 11:00 AM</b>\n\n<b>Handwriting Without Tears</b>\nWith <b>Lear
 ning Without Tears</b>\, parents and educators gain simple and effective t
 ools that are developmentally appropriate and use multisensory manipulativ
 es to foster early literacy and handwriting skills\, from readiness to han
 dwriting and more.  We ensure every child’s path to learning is built on a
  strong foundation based on joyful learning.\n\n<b>Suzanne Asherson\, OTD\
 , MA\, OTR/L</b>\nDr. Suzanne Asherson is a pediatric occupational therapi
 st with a Clinical Doctorate and Master's from the University of Southern 
 California.  She co-wrote the chapter “Evidence-Based Practice and Account
 ability” in the Guidelines for Occupational Therapy and Physical Therapy i
 n the California Public Schools published by the California Department of 
 Education and is SIPT certified (Sensory Integration and Praxis Tests).  S
 uzanne has been prominently featured in the New York Times\, Los Angeles T
 imes and appears in on-air news segments around the country regarding hand
 writing in today’s world.  Suzanne spent almost a decade working at the Be
 verly Hills Unified School District practicing as a school based OT\, has 
 been a National Presenter for Learning Without Tears since 2008 and curren
 tly has a private pediatric OT practice in Beverly Hills and the surroundi
 ng neighborhoods.
DTSTART;TZID=America/Los_Angeles:20250816T100000
DTEND;TZID=America/Los_Angeles:20250816T110000
LOCATION:Zoom
SUMMARY:Handwriting Without Tears
END:VEVENT
END:VCALENDAR
