BEGIN:VCALENDAR
VERSION:2.0
PRODID:-//www.dsala.org//NONSGML kigkonsult.se iCalcreator 2.30.10//
CALSCALE:GREGORIAN
METHOD:PUBLISH
UID:bd5b6ce7-86ec-4363-bf8d-a746f21dadc0
X-WR-CALDESC:Born to Act Players - Junior Class\n\nStudents will sing\, dan
 ce\, and act! \n\nThey will develop better speech\, communication skills\,
  and self confidence !\n\n\nCost is $15 per session. (Ages 5-17)	\n\n
X-WR-RELCALID:52028fc187b006e1157ab8c8a9c54af1
X-WR-TIMEZONE:America/Los_Angeles
BEGIN:VTIMEZONE
TZID:America/Los_Angeles
BEGIN:STANDARD
TZNAME:PST
DTSTART:20241103T020000
TZOFFSETFROM:-0700
TZOFFSETTO:-0800
RDATE:20251102T020000
RDATE:20261101T020000
END:STANDARD
BEGIN:DAYLIGHT
TZNAME:PDT
DTSTART:20250309T020000
TZOFFSETFROM:-0800
TZOFFSETTO:-0700
RDATE:20260308T020000
END:DAYLIGHT
END:VTIMEZONE
BEGIN:VEVENT
UID:83af75b2-cf73-4b88-a0f5-023f4c1a729b
DTSTAMP:20260420T010400Z
DESCRIPTION:Born to Act Players - Junior Class\n\nStudents will sing\, danc
 e\, and act! \n\nThey will develop better speech\, communication skills\, 
 and self confidence !\n\n\nCost is $15 per session. (Ages 5-17)	\n\n
DTSTART;TZID=America/Los_Angeles:20250731T160000
DTEND;TZID=America/Los_Angeles:20250731T173000
LOCATION:First Christian Church of North Hollywood  4390 Colfax Ave\, Studi
 o City\, CA 91604
SUMMARY:Acting Classes BTAP Jr.
END:VEVENT
END:VCALENDAR
