BEGIN:VCALENDAR
VERSION:2.0
PRODID:-//www.dsala.org//NONSGML kigkonsult.se iCalcreator 2.30.10//
CALSCALE:GREGORIAN
METHOD:PUBLISH
UID:d1e99744-f566-4c31-8814-57c0b18a8195
X-WR-CALDESC:<b>Zoom Saturday Seminar\nDate: Saturday\, July 19\, 2025\nTim
 e: 10 AM - 11:00 AM</b>\n\n<b>Regression in Down Syndrome</b>\n-  Review c
 ommon neurological complications in Down syndrome\n-  Review the most comm
 on stroke-related conditions that persons with Down syndrome exhibit with 
 Moyamoya Disease and Cerebral Amyloid Angiopathy (CAA).\n-  Review the com
 mon signs and symptoms of Moyamoya disease and CAA\, how to get diagnosed 
 and what treatments can be used.\n-  Review a potential\, non-invasive met
 hod to predict stroke before it happens\n\n<b>Presenter:</b>\n<b>Dr. Jonat
 han D. Santoro\, MD</b> serves as the Director of the Neuroimmunology and 
 Demyelinating Disorders Program at Children's Hospital Los Angeles. He is 
 also an Assistant Professor of Neurology at the Keck School of Medicine at
  the University of Southern California. Dr. Santoro completed his undergra
 duate\, master's\, and medical degrees at Tulane University. He subsequent
 ly completed pediatric and child neurology residencies at Stanford Univers
 ity School of Medicine with sub-specialty training in neuroimmunology and 
 pediatric multiple sclerosis at Harvard Medical School. Dr. Santoro has cl
 inical research expertise in inflammation related to cerebrovascular disea
 se and neurocognitive disorders such as Down syndrome regression syndrome.
X-WR-RELCALID:e34441eb38a094bbc86f15e76e59f555
X-WR-TIMEZONE:America/Los_Angeles
BEGIN:VTIMEZONE
TZID:America/Los_Angeles
BEGIN:STANDARD
TZNAME:PST
DTSTART:20241103T020000
TZOFFSETFROM:-0700
TZOFFSETTO:-0800
RDATE:20251102T020000
RDATE:20261101T020000
END:STANDARD
BEGIN:DAYLIGHT
TZNAME:PDT
DTSTART:20250309T020000
TZOFFSETFROM:-0800
TZOFFSETTO:-0700
RDATE:20260308T020000
END:DAYLIGHT
END:VTIMEZONE
BEGIN:VEVENT
UID:b29557fa-1b46-4d3b-819d-c1f2b5fc1d5a
DTSTAMP:20260420T010215Z
DESCRIPTION:<b>Zoom Saturday Seminar\nDate: Saturday\, July 19\, 2025\nTime
 : 10 AM - 11:00 AM</b>\n\n<b>Regression in Down Syndrome</b>\n-  Review co
 mmon neurological complications in Down syndrome\n-  Review the most commo
 n stroke-related conditions that persons with Down syndrome exhibit with M
 oyamoya Disease and Cerebral Amyloid Angiopathy (CAA).\n-  Review the comm
 on signs and symptoms of Moyamoya disease and CAA\, how to get diagnosed a
 nd what treatments can be used.\n-  Review a potential\, non-invasive meth
 od to predict stroke before it happens\n\n<b>Presenter:</b>\n<b>Dr. Jonath
 an D. Santoro\, MD</b> serves as the Director of the Neuroimmunology and D
 emyelinating Disorders Program at Children's Hospital Los Angeles. He is a
 lso an Assistant Professor of Neurology at the Keck School of Medicine at 
 the University of Southern California. Dr. Santoro completed his undergrad
 uate\, master's\, and medical degrees at Tulane University. He subsequentl
 y completed pediatric and child neurology residencies at Stanford Universi
 ty School of Medicine with sub-specialty training in neuroimmunology and p
 ediatric multiple sclerosis at Harvard Medical School. Dr. Santoro has cli
 nical research expertise in inflammation related to cerebrovascular diseas
 e and neurocognitive disorders such as Down syndrome regression syndrome.
DTSTART;TZID=America/Los_Angeles:20250719T100000
DTEND;TZID=America/Los_Angeles:20250719T110000
LOCATION:Zoom
SUMMARY:Regression in Down Syndrome
END:VEVENT
END:VCALENDAR
