BEGIN:VCALENDAR
VERSION:2.0
PRODID:-//www.dsala.org//NONSGML kigkonsult.se iCalcreator 2.30.10//
CALSCALE:GREGORIAN
METHOD:PUBLISH
UID:7797b650-b585-4692-86b4-efa38b4c7823
X-WR-CALDESC:DSALA Parent Support Group\n💙****New! DSALA Parent Support Gro
 up for Parents of Young Children 💛nDSALA is excited to introduce a new sup
 port group specifically for parents of young children with Down syndrome.
 \n\nThis group offers a welcoming space to connect with other parents\, sh
 are experiences\, ask questions\, and find community support. Whether you'
 re navigating a recent diagnosis or simply looking to connect\, you’re not
  alone.
X-WR-RELCALID:16ceb223ec5922b98b98ac3c26a0c67a
X-WR-TIMEZONE:America/Los_Angeles
BEGIN:VTIMEZONE
TZID:America/Los_Angeles
BEGIN:STANDARD
TZNAME:PST
DTSTART:20241103T020000
TZOFFSETFROM:-0700
TZOFFSETTO:-0800
RDATE:20251102T020000
RDATE:20261101T020000
END:STANDARD
BEGIN:DAYLIGHT
TZNAME:PDT
DTSTART:20250309T020000
TZOFFSETFROM:-0800
TZOFFSETTO:-0700
RDATE:20260308T020000
END:DAYLIGHT
END:VTIMEZONE
BEGIN:VEVENT
UID:e426b61b-2f21-48df-916a-24a850c93adf
DTSTAMP:20260420T010203Z
DESCRIPTION:DSALA Parent Support Group\n💙****New! DSALA Parent Support Grou
 p for Parents of Young Children 💛nDSALA is excited to introduce a new supp
 ort group specifically for parents of young children with Down syndrome.\n
 \nThis group offers a welcoming space to connect with other parents\, shar
 e experiences\, ask questions\, and find community support. Whether you're
  navigating a recent diagnosis or simply looking to connect\, you’re not a
 lone.
DTSTART;TZID=America/Los_Angeles:20250716T183000
DTEND;TZID=America/Los_Angeles:20250716T200000
LOCATION:Granada Hills Community Church:  11263 Balboa Blvd Granada Hills\,
  CA  91344
SUMMARY:DSALA Parent Support Group
END:VEVENT
END:VCALENDAR
