BEGIN:VCALENDAR
VERSION:2.0
PRODID:-//www.dsala.org//NONSGML kigkonsult.se iCalcreator 2.30.10//
CALSCALE:GREGORIAN
METHOD:PUBLISH
UID:25ef366a-d9ce-46d5-8542-1d1fa53df467
X-WR-CALDESC:<b>Zoom Saturday Seminar\nDate: Saturday\, June 21\, 2025\nTim
 e: 10 AM - 11:30 AM</b>\n\n<b>Take Charge of Your Mental Health</b>\n\nCar
 etakers dedicate so much time to the needs of others\, often putting off s
 elf-care for another day... and then another...  In this online workshop o
 rganized by the Down Syndrome Association of Los Angeles for caretakers wi
 thin our community\, learn practical strategies to:\n\n- Focus attention o
 n what you CAN do\n- Cultivate self-talk that serves you\n- Protect yourse
 lf from negative beliefs\n- Understand & manage emotional triggers\n- Crea
 te supportive\, healthy relationships\n- Set and uphold boundaries\n- Prot
 ect your emotional and physical safety\n- Recognize and ask for what you n
 eed\n\n<b>About Kidpower International:</b>\nKidpower International is the
  nonprofit leader in personal safety education for all ages and abilities.
  More than 8 million people have learned Kidpower skills to promote health
 y relationships\, improve communication\, and protect adults\, teens\, and
  children from bullying\, violence\, abuse\, and other harm since Kidpower
 's establishment in 1989.
X-WR-RELCALID:c9eb5492b788a02e3fae6884d3bbe242
X-WR-TIMEZONE:America/Los_Angeles
BEGIN:VTIMEZONE
TZID:America/Los_Angeles
BEGIN:STANDARD
TZNAME:PST
DTSTART:20241103T020000
TZOFFSETFROM:-0700
TZOFFSETTO:-0800
RDATE:20251102T020000
RDATE:20261101T020000
END:STANDARD
BEGIN:DAYLIGHT
TZNAME:PDT
DTSTART:20250309T020000
TZOFFSETFROM:-0800
TZOFFSETTO:-0700
RDATE:20260308T020000
END:DAYLIGHT
END:VTIMEZONE
BEGIN:VEVENT
UID:8374b407-557b-45fc-aee6-522f6dc85ed5
DTSTAMP:20260420T030643Z
DESCRIPTION:<b>Zoom Saturday Seminar\nDate: Saturday\, June 21\, 2025\nTime
 : 10 AM - 11:30 AM</b>\n\n<b>Take Charge of Your Mental Health</b>\n\nCare
 takers dedicate so much time to the needs of others\, often putting off se
 lf-care for another day... and then another...  In this online workshop or
 ganized by the Down Syndrome Association of Los Angeles for caretakers wit
 hin our community\, learn practical strategies to:\n\n- Focus attention on
  what you CAN do\n- Cultivate self-talk that serves you\n- Protect yoursel
 f from negative beliefs\n- Understand & manage emotional triggers\n- Creat
 e supportive\, healthy relationships\n- Set and uphold boundaries\n- Prote
 ct your emotional and physical safety\n- Recognize and ask for what you ne
 ed\n\n<b>About Kidpower International:</b>\nKidpower International is the 
 nonprofit leader in personal safety education for all ages and abilities. 
 More than 8 million people have learned Kidpower skills to promote healthy
  relationships\, improve communication\, and protect adults\, teens\, and 
 children from bullying\, violence\, abuse\, and other harm since Kidpower'
 s establishment in 1989.
DTSTART;TZID=America/Los_Angeles:20250621T100000
DTEND;TZID=America/Los_Angeles:20250621T233000
LOCATION:Zoom
SUMMARY:Take Charge of Your Mental Health
END:VEVENT
END:VCALENDAR
